BEGIN:VCALENDAR
VERSION:2.0
PRODID:-//Drupal iCal API//EN
X-WR-CALNAME:Events items teaser
X-WR-TIMEZONE:America/Toronto
BEGIN:VTIMEZONE
TZID:America/Toronto
X-LIC-LOCATION:America/Toronto
BEGIN:DAYLIGHT
TZNAME:EDT
TZOFFSETFROM:-0500
TZOFFSETTO:-0400
DTSTART:20180311T070000
END:DAYLIGHT
BEGIN:STANDARD
TZNAME:EST
TZOFFSETFROM:-0400
TZOFFSETTO:-0500
DTSTART:20171105T060000
END:STANDARD
END:VTIMEZONE
BEGIN:VEVENT
UID:69e52828f0540
DTSTART;TZID=America/Toronto:20180424T140000
SEQUENCE:0
TRANSP:TRANSPARENT
DTEND;TZID=America/Toronto:20180424T150000
URL:https://uwaterloo.ca/complexity-innovation/events/wici-talk-dr-ricard-s
 ole-synthetic-evolutionary-transitions
LOCATION:DC - William G. Davis Computer Research Centre 200 University Aven
 ue West 1302 Waterloo ON N2L 3G1 Canada
SUMMARY:WICI Talk - Dr. Ricard Solé : \"Synthetic evolutionary transitions
 :\nfrom cells to brains and ecosystems\"
CLASS:PUBLIC
DESCRIPTION:JOIN US FOR DR. RICARD SOLÉ'S WICI TALK: \"SYNTHETIC EVOLUTIO
 NARY\nTRANSITIONS: FROM CELLS TO BRAINS AND ECOSYSTEMS\"\n\nDr. Ricard Sol
 é is a Professor\, at the Complex Systems Lab\,\nin Barcelona Biomedi
 cal Research Park\, Universitat Pompeu Fabra.  \nHe will present on Apri
 l 24th\, 2018\, in DC 1302 at 2:00 p.m.\n\nABSTRACT:  Evolution is marked
  by well-defined events involving\nprofound innovations
DTSTAMP:20260419T190825Z
END:VEVENT
END:VCALENDAR