BEGIN:VCALENDAR
VERSION:2.0
PRODID:-//Drupal iCal API//EN
X-WR-CALNAME:Events items teaser
X-WR-TIMEZONE:America/Toronto
BEGIN:VTIMEZONE
TZID:America/Toronto
X-LIC-LOCATION:America/Toronto
BEGIN:DAYLIGHT
TZNAME:EDT
TZOFFSETFROM:-0500
TZOFFSETTO:-0400
DTSTART:20170312T070000
END:DAYLIGHT
BEGIN:STANDARD
TZNAME:EST
TZOFFSETFROM:-0400
TZOFFSETTO:-0500
DTSTART:20161106T060000
END:STANDARD
END:VTIMEZONE
BEGIN:VEVENT
UID:69dfd1607b854
DTSTART;TZID=America/Toronto:20171020T143000
SEQUENCE:0
TRANSP:TRANSPARENT
DTEND;TZID=America/Toronto:20171020T153000
URL:https://uwaterloo.ca/complexity-innovation/events/yacov-haimes-understa
 nding-modeling-and-managing
LOCATION:DC - William G. Davis Computer Research Centre 200 University Aven
 ue West 1302 Waterloo ON N2L 3G1 Canada
SUMMARY:Yacov Haimes: Understanding\, Modeling\, and Managing Interdependen
 t\nComplex Systems of Systems
CLASS:PUBLIC
DESCRIPTION:VIEW SLIDES FROM YACOV HAIMES' PRESENTATION: \"UNDERSTANDING\,
 \nMODELING\, AND MANAGAING INTERDEPENDENT COMPLEX SYSTEMS OF SYSTEMS\"\n[/
 complexity-innovation/sites/ca.complexity-innovation/files/uploads/files/h
 aimes.speech_seminar-19_october_2017-ab_0.pdf]. \n\nA JOINT SEMINAR SPON
 SORED BY WATERLOO INSTITUTE FOR COMPLEXITY &amp;\nINNOVATION [WICI] AND THE 
 DEPARTMENT OF SYSTEMS DESIGN ENGINEERING.
DTSTAMP:20260415T175648Z
END:VEVENT
END:VCALENDAR