BEGIN:VCALENDAR
VERSION:2.0
PRODID:-//Drupal iCal API//EN
X-WR-CALNAME:Events items teaser
X-WR-TIMEZONE:America/Toronto
BEGIN:VTIMEZONE
TZID:America/Toronto
X-LIC-LOCATION:America/Toronto
BEGIN:DAYLIGHT
TZNAME:EDT
TZOFFSETFROM:-0500
TZOFFSETTO:-0400
DTSTART:20180311T070000
END:DAYLIGHT
BEGIN:STANDARD
TZNAME:EST
TZOFFSETFROM:-0400
TZOFFSETTO:-0500
DTSTART:20171105T060000
END:STANDARD
END:VTIMEZONE
BEGIN:VEVENT
UID:69e12066d9c30
DTSTART;TZID=America/Toronto:20180425T090000
SEQUENCE:0
TRANSP:TRANSPARENT
DTEND;TZID=America/Toronto:20180426T120000
URL:https://uwaterloo.ca/complexity-innovation/events/wici-workshop-leverag
 ing-systems-approaches-improve-human
LOCATION:LHI - Lyle S. Hallman North 200 University Avenue West Sun Life Au
 ditorium Waterloo ON N2L 3G1 Canada
SUMMARY:WICI workshop: Leveraging systems approaches to improve human &amp;\npl
 anetary health
CLASS:PUBLIC
DESCRIPTION:WICI WORKSHOP: LEVERAGING SYSTEMS APPROACHES TO IMPROVE HUMAN 
 &amp;\nPLANETARY HEALTH
DTSTAMP:20260416T174614Z
END:VEVENT
END:VCALENDAR