BEGIN:VCALENDAR
VERSION:2.0
PRODID:-//Drupal iCal API//EN
X-WR-CALNAME:Events items teaser
X-WR-TIMEZONE:America/Toronto
BEGIN:VTIMEZONE
TZID:America/Toronto
X-LIC-LOCATION:America/Toronto
BEGIN:DAYLIGHT
TZNAME:EDT
TZOFFSETFROM:-0500
TZOFFSETTO:-0400
DTSTART:20180311T070000
END:DAYLIGHT
BEGIN:STANDARD
TZNAME:EST
TZOFFSETFROM:-0400
TZOFFSETTO:-0500
DTSTART:20181104T060000
END:STANDARD
END:VTIMEZONE
BEGIN:VEVENT
UID:69e1059e72419
DTSTART;TZID=America/Toronto:20181113T113000
SEQUENCE:0
TRANSP:TRANSPARENT
DTEND;TZID=America/Toronto:20181113T123000
URL:https://uwaterloo.ca/complexity-innovation/events/wici-talk-igor-grossm
 ann
LOCATION:DC - William G. Davis Computer Research Centre 200 University Aven
 ue West 1304 Waterloo ON N2L 3G1 Canada
SUMMARY:WICI Talk with Igor Grossmann
CLASS:PUBLIC
DESCRIPTION:WISDOM IN A COMPLEX WORLD: MEASUREMENT\, UTILITY\, AND INTERVE
 NTIONS
DTSTAMP:20260416T155158Z
END:VEVENT
END:VCALENDAR