BEGIN:VCALENDAR
VERSION:2.0
PRODID:-//Drupal iCal API//EN
X-WR-CALNAME:Events items teaser
X-WR-TIMEZONE:America/Toronto
BEGIN:VTIMEZONE
TZID:America/Toronto
X-LIC-LOCATION:America/Toronto
BEGIN:DAYLIGHT
TZNAME:EDT
TZOFFSETFROM:-0500
TZOFFSETTO:-0400
DTSTART:20190310T070000
END:DAYLIGHT
BEGIN:STANDARD
TZNAME:EST
TZOFFSETFROM:-0400
TZOFFSETTO:-0500
DTSTART:20181104T060000
END:STANDARD
END:VTIMEZONE
BEGIN:VEVENT
UID:69dffc24c8d67
DTSTART;TZID=America/Toronto:20190603T120000
SEQUENCE:0
TRANSP:TRANSPARENT
DTEND;TZID=America/Toronto:20190603T133000
URL:https://uwaterloo.ca/complexity-innovation/events/conversations-complex
 -systems-dr-bill-sutherland
LOCATION:STC - Science Teaching Complex 200 University Ave West 1019 Waterl
 oo ON N2L 3G1 Canada
SUMMARY:Conversations on Complex Systems with Dr. Bill Sutherland
CLASS:PUBLIC
DESCRIPTION:COMPLEX SYSTEMS STUDENTS\, STAFF\, FACULTY AND FRIENDS ARE INVI
 TED TO\nTHIS OPEN-FORMAT SEMINAR WITH DR. BILL SUTHERLAND. BRING YOUR LUNC
 H\nAND YOUR IDEAS\, AND SEE WHERE THE CONVERSATIONS TAKE YOU.\n\nMONDAY JU
 NE 3 &amp; MONDAY\, JULY 8\n\nSTC 1019 FROM 12-1:30\n\n-----------------------
 --\n\n\"Common ground\, public space\, a commonwealth: The Agora of ancien
 t\ntimes – A gathering and holding for diversity of disagreement\,\ndile
 mma\, dialogue\, discussion\, dramaturgy\, and dialectics.
DTSTAMP:20260415T205916Z
END:VEVENT
BEGIN:VEVENT
UID:69dffc24ccf4b
DTSTART;TZID=America/Toronto:20190703T120000
SEQUENCE:0
TRANSP:TRANSPARENT
DTEND;TZID=America/Toronto:20190703T133000
URL:https://uwaterloo.ca/complexity-innovation/events/conversations-complex
 -systems-dr-bill-sutherland
LOCATION:STC - Science Teaching Complex 200 University Ave West 1019 Waterl
 oo ON N2L 3G1 Canada
SUMMARY:Conversations on Complex Systems with Dr. Bill Sutherland
CLASS:PUBLIC
DESCRIPTION:COMPLEX SYSTEMS STUDENTS\, STAFF\, FACULTY AND FRIENDS ARE INVI
 TED TO\nTHIS OPEN-FORMAT SEMINAR WITH DR. BILL SUTHERLAND. BRING YOUR LUNC
 H\nAND YOUR IDEAS\, AND SEE WHERE THE CONVERSATIONS TAKE YOU.\n\nMONDAY JU
 NE 3 &amp; MONDAY\, JULY 8\n\nSTC 1019 FROM 12-1:30\n\n-----------------------
 --\n\n\"Common ground\, public space\, a commonwealth: The Agora of ancien
 t\ntimes – A gathering and holding for diversity of disagreement\,\ndile
 mma\, dialogue\, discussion\, dramaturgy\, and dialectics.
DTSTAMP:20260415T205916Z
END:VEVENT
END:VCALENDAR