BEGIN:VCALENDAR
VERSION:2.0
PRODID:-//Drupal iCal API//EN
X-WR-CALNAME:Events items teaser
X-WR-TIMEZONE:America/Toronto
BEGIN:VTIMEZONE
TZID:America/Toronto
X-LIC-LOCATION:America/Toronto
BEGIN:DAYLIGHT
TZNAME:EDT
TZOFFSETFROM:-0500
TZOFFSETTO:-0400
DTSTART:20190310T070000
END:DAYLIGHT
BEGIN:STANDARD
TZNAME:EST
TZOFFSETFROM:-0400
TZOFFSETTO:-0500
DTSTART:20191103T060000
END:STANDARD
END:VTIMEZONE
BEGIN:VEVENT
UID:69e4e5bb43563
DTSTART;TZID=America/Toronto:20191203T103000
SEQUENCE:0
TRANSP:TRANSPARENT
DTEND;TZID=America/Toronto:20191203T120000
URL:https://uwaterloo.ca/complexity-innovation/events/wici-visioning-sessio
 n
LOCATION:EV3 - Environment 3 200 University Avenue West Room 4327 Waterloo 
 ON N2L 3G1 Canada
SUMMARY:WICI Visioning Session
CLASS:PUBLIC
DESCRIPTION:WATERLOO INSTITUTE FOR COMPLEXITY AND INNOVATION - FALL 2019 VI
 SIONING\nSESSION\n\nTUESDAY DECEMBER 3\, 2019\n\n10:30 A.M. TO 12 NOON\n\n
 EV3 4327\n\nWhat does WICI mean for you?  What would you like it to be in
 \nfuture?  We need your input!
DTSTAMP:20260419T142459Z
END:VEVENT
END:VCALENDAR