BEGIN:VCALENDAR
VERSION:2.0
PRODID:-//Drupal iCal API//EN
X-WR-CALNAME:Events items teaser
X-WR-TIMEZONE:America/Toronto
BEGIN:VTIMEZONE
TZID:America/Toronto
X-LIC-LOCATION:America/Toronto
BEGIN:DAYLIGHT
TZNAME:EDT
TZOFFSETFROM:-0500
TZOFFSETTO:-0400
DTSTART:20230312T070000
END:DAYLIGHT
BEGIN:STANDARD
TZNAME:EST
TZOFFSETFROM:-0400
TZOFFSETTO:-0500
DTSTART:20231105T060000
END:STANDARD
END:VTIMEZONE
BEGIN:VEVENT
UID:69ec168354f63
DTSTART;TZID=America/Toronto:20231123T103000
SEQUENCE:0
TRANSP:TRANSPARENT
DTEND;TZID=America/Toronto:20231123T120000
URL:https://uwaterloo.ca/complexity-innovation/events/wici-talk-ai-and-tran
 sformation-social-science-research
LOCATION:DC - William G. Davis Computer Research Centre 200 University Aven
 ue West Room DC 1302 Waterloo ON N2L 3G1 Canada
SUMMARY:WICI Talk: AI and the Transformation of Social Science Research
CLASS:PUBLIC
DESCRIPTION:WICI Speaker Series on AI and Social Science Research with Dr. 
 Igor\nGrossmann featuring panellists Dr. Maura Grossman\, Dr. Joel Blit\, 
 and\nDr. Amir-Hossein Karimi
DTSTAMP:20260425T011859Z
END:VEVENT
END:VCALENDAR