BEGIN:VCALENDAR
VERSION:2.0
PRODID:-//Drupal iCal API//EN
X-WR-CALNAME:Events items teaser
X-WR-TIMEZONE:America/Toronto
BEGIN:VTIMEZONE
TZID:America/Toronto
X-LIC-LOCATION:America/Toronto
BEGIN:DAYLIGHT
TZNAME:EDT
TZOFFSETFROM:-0500
TZOFFSETTO:-0400
DTSTART:20230312T070000
END:DAYLIGHT
BEGIN:STANDARD
TZNAME:EST
TZOFFSETFROM:-0400
TZOFFSETTO:-0500
DTSTART:20231105T060000
END:STANDARD
END:VTIMEZONE
BEGIN:VEVENT
UID:69e731bb27f31
DTSTART;TZID=America/Toronto:20240129T130000
SEQUENCE:0
TRANSP:TRANSPARENT
DTEND;TZID=America/Toronto:20240129T143000
URL:https://uwaterloo.ca/complexity-innovation/events/wici-speaker-series-c
 ybernetic-aesthetics
LOCATION:DC - William G. Davis Computer Research Centre 200 University Aven
 ue West Room DC 1302 Waterloo ON N2L 3G1 Canada
SUMMARY:WICI Speaker Series: Cybernetic Aesthetics
CLASS:PUBLIC
DESCRIPTION:WICI Speaker Series on Cybernetic Aesthetics with Heather A. Lo
 ve
DTSTAMP:20260421T081347Z
END:VEVENT
END:VCALENDAR