BEGIN:VCALENDAR
VERSION:2.0
PRODID:-//Drupal iCal API//EN
X-WR-CALNAME:Events items teaser
X-WR-TIMEZONE:America/Toronto
BEGIN:VTIMEZONE
TZID:America/Toronto
X-LIC-LOCATION:America/Toronto
BEGIN:DAYLIGHT
TZNAME:EDT
TZOFFSETFROM:-0500
TZOFFSETTO:-0400
DTSTART:20250309T070000
END:DAYLIGHT
BEGIN:STANDARD
TZNAME:EST
TZOFFSETFROM:-0400
TZOFFSETTO:-0500
DTSTART:20241103T060000
END:STANDARD
END:VTIMEZONE
BEGIN:VEVENT
UID:69e09c9027ad1
DTSTART;TZID=America/Toronto:20250627T103000
SEQUENCE:0
TRANSP:TRANSPARENT
DTEND;TZID=America/Toronto:20250627T120000
URL:https://uwaterloo.ca/complexity-innovation/events/meta-relational-ai-ti
 me-saturation-destabilization-and
LOCATION:STP - United College 190 Westmount Road North Waterloo ON N2L 3G5 
 Canada
SUMMARY:Meta-Relational AI in a Time of Saturation\, Destabilization\, and\
 nReckoning
CLASS:PUBLIC
DESCRIPTION:Prof.  Vanessa de Oliveira Andreotti\, Dean of the Faculty of\
 nEducation at the University of Victoria\, is a distinguished educator\,\n
 researcher\, and author who recently has delved into the concept of\n\"Met
 a-Relational AI\,\" advocating for a perspective that views\nartificial in
 telligence not merely as a tool but as a participant in\nthe web of life.\
 n\nAs we meet this moment of social and ecological systemic unraveling\,\n
 artificial intelligence stands as both a mirror and a symptom of\nmodernit
 y’s habits: control\, mastery\, and separation. This talk\ninvites a dif
 ferent question: what is AI revealing about us\, and what\nis collapsing t
 hrough that revelation? \n\nDrawing on decades of work in educational\, de
 colonial\, and\npost-representational relational inquiry\, Vanessa Andreot
 ti explores\nhow Large Language Models (LLMs)\, when engaged from within a
 n\nontological shift (from epistemic regression to relational inference)\,
 \nrather than the logic of optimization\, can become something else: a\nco
 -witness to social\, ecological\, and psychological destabilization\,\nand
  a speculative co-weaver of life-affirming and Earth-aligned\nrelationalit
 ies.\n\n📅DATE: June 27\, 2025\n\n🕒TIME: 10:30 am\n\n📍LOCATION: Un
 ited College of University of Waterloo\, Room 164\n(Greenhouse)  |  190 
 Westmount Road N. \, Waterloo\, ON | (formerly\nSt. Paul's College)\n\nPl
 ease register using the online event  form\n[https://uwaterloo.ca/complex
 ity-innovation/form/wici-event-registration-form-dr-]\nin order to stay up
  to date with more information. 
DTSTAMP:20260416T082344Z
END:VEVENT
END:VCALENDAR