BEGIN:VCALENDAR
VERSION:2.0
PRODID:-//Drupal iCal API//EN
X-WR-CALNAME:Events items teaser
X-WR-TIMEZONE:America/Toronto
BEGIN:VTIMEZONE
TZID:America/Toronto
X-LIC-LOCATION:America/Toronto
BEGIN:DAYLIGHT
TZNAME:EDT
TZOFFSETFROM:-0500
TZOFFSETTO:-0400
DTSTART:20260308T070000
END:DAYLIGHT
BEGIN:STANDARD
TZNAME:EST
TZOFFSETFROM:-0400
TZOFFSETTO:-0500
DTSTART:20251102T060000
END:STANDARD
END:VTIMEZONE
BEGIN:VEVENT
UID:69dfbb2b3c224
DTSTART;TZID=America/Toronto:20260513T113000
SEQUENCE:0
TRANSP:TRANSPARENT
DTEND;TZID=America/Toronto:20260513T123000
URL:https://uwaterloo.ca/complexity-innovation/events/wici-talk-dr-carey-ki
 ng
LOCATION:E7 - Engineering 7 200 University Ave West Waterloo ON N2L 3G1 Can
 ada
SUMMARY:WICI Talk with Dr. Carey King
CLASS:PUBLIC
DESCRIPTION:“Energy and Economic Complexity: Insights from Data and\nMacr
 oeconomic Modeling”\n\nFaculty Hall\, PSE 7303 | May 13\, 2026 | 11:30 a
 m
DTSTAMP:20260415T162203Z
END:VEVENT
END:VCALENDAR