BEGIN:VCALENDAR
VERSION:2.0
PRODID:-//Drupal iCal API//EN
X-WR-CALNAME:Events items teaser
X-WR-TIMEZONE:America/Toronto
BEGIN:VTIMEZONE
TZID:America/Toronto
X-LIC-LOCATION:America/Toronto
BEGIN:DAYLIGHT
TZNAME:EDT
TZOFFSETFROM:-0500
TZOFFSETTO:-0400
DTSTART:20260308T070000
END:DAYLIGHT
BEGIN:DAYLIGHT
TZNAME:EDT
TZOFFSETFROM:-0500
TZOFFSETTO:-0400
DTSTART:20250309T070000
END:DAYLIGHT
BEGIN:DAYLIGHT
TZNAME:EDT
TZOFFSETFROM:-0500
TZOFFSETTO:-0400
DTSTART:20240310T070000
END:DAYLIGHT
BEGIN:STANDARD
TZNAME:EST
TZOFFSETFROM:-0400
TZOFFSETTO:-0500
DTSTART:20251102T060000
END:STANDARD
BEGIN:STANDARD
TZNAME:EST
TZOFFSETFROM:-0400
TZOFFSETTO:-0500
DTSTART:20241103T060000
END:STANDARD
BEGIN:STANDARD
TZNAME:EST
TZOFFSETFROM:-0400
TZOFFSETTO:-0500
DTSTART:20231105T060000
END:STANDARD
END:VTIMEZONE
BEGIN:VEVENT
UID:69ebc13a4e2ad
DTSTART;TZID=America/Toronto:20260415T104500
SEQUENCE:0
TRANSP:TRANSPARENT
DTEND;TZID=America/Toronto:20260415T114500
URL:https://uwaterloo.ca/complexity-innovation/events/planetary-health-roun
 d-table
SUMMARY:Planetary Health Round Table
CLASS:PUBLIC
DESCRIPTION:Please note that the Zoom webinar is limited to 1\,000 particip
 ants.\nFor this reason\, the event will also be streamed live on Senator\n
 Galvez’s YouTube channel on the day of the event:\n@senatorrosagalvez110
 6.  You may register for the Zoom event using\nthe QR code in the poster.
  
DTSTAMP:20260424T191506Z
END:VEVENT
BEGIN:VEVENT
UID:69ebc13a51e10
DTSTART;TZID=America/Toronto:20260416T150000
SEQUENCE:0
TRANSP:TRANSPARENT
DTEND;TZID=America/Toronto:20260416T163000
URL:https://uwaterloo.ca/complexity-innovation/events/beyond-profit-new-tim
 e
SUMMARY:Beyond Profit - new time
CLASS:PUBLIC
DESCRIPTION:📍 LOCATION: Desmarais Hall\, Room 7170\, University of Ottaw
 a (55\nLaurier Ave E\, Ottawa\, ON)\n\n📅 DATE: Thursday\, April 16th \
 n\n⏰ TIME: 3:00 pm - 4:30 pm
DTSTAMP:20260424T191506Z
END:VEVENT
BEGIN:VEVENT
UID:69ebc13a52f0b
DTSTART;TZID=America/Toronto:20260513T113000
SEQUENCE:0
TRANSP:TRANSPARENT
DTEND;TZID=America/Toronto:20260513T123000
URL:https://uwaterloo.ca/complexity-innovation/events/wici-talk-dr-carey-ki
 ng
LOCATION:E7 - Engineering 7 200 University Ave West Waterloo ON N2L 3G1 Can
 ada
SUMMARY:WICI Talk with Dr. Carey King
CLASS:PUBLIC
DESCRIPTION:“Energy and Economic Complexity: Insights from Data and\nMacr
 oeconomic Modeling”\n\nFaculty Hall\, PSE 7303 | May 13\, 2026 | 11:30 a
 m
DTSTAMP:20260424T191506Z
END:VEVENT
BEGIN:VEVENT
UID:69ebc13a54d44
DTSTART;TZID=America/Toronto:20260311T140000
SEQUENCE:0
TRANSP:TRANSPARENT
DTEND;TZID=America/Toronto:20260311T160000
URL:https://uwaterloo.ca/complexity-innovation/events/dr-maryam-mohiuddin-a
 hmed-systems-mediation
LOCATION:M3 - Mathematics 3 200 University Avenue West Waterloo ON N2L 3G1 
 Canada
SUMMARY:Dr. Maryam Mohiuddin Ahmed: Systems Mediation
CLASS:PUBLIC
DESCRIPTION:March 11 WICI Talk
DTSTAMP:20260424T191506Z
END:VEVENT
BEGIN:VEVENT
UID:69ebc13a55bca
DTSTART;TZID=America/Toronto:20260128T173000
SEQUENCE:0
TRANSP:TRANSPARENT
DTEND;TZID=America/Toronto:20260128T183000
URL:https://uwaterloo.ca/complexity-innovation/events/annual-mcgill-shakesp
 eare-lecture
SUMMARY:Annual McGill Shakespeare Lecture
CLASS:PUBLIC
DESCRIPTION:The Waterloo Institute for Complexity and Innovation (WICI) is 
 pleased\nto share that The FRIENDS OF THE MCGILL LIBRARIES\n[https://www.
 mcgill.ca/library-friends/] and the STRATFORD\nFESTIVAL  [https://www.s
 tratfordfestival.ca/]are delighted to partner\nonce again to present the 2
 026 ANNUAL SHAKESPEARE LECTURE\n[https://www.mcgill.ca/library-friends/ev
 ents/shakespeare] with renowned\nactress LUCY PEACOCK\; along with LAU
 RETTE DUBÉ\, Scientific Director\nof the McGill Centre for the Convergenc
 e of Health and\nEconomics\; MAIYA GEDDES\, an FRSQ neurologist scientist
  and an\nAssociate Professor in the Department of Neurology and Neurosurge
 ry at\nMcGill University\; and PAUL YACHNIN\, BA'76\, Tomlinson Professo
 r of\nShakespeare Studies at McGill.\n\nIn the face of social\, environmen
 tal\, and political upheaval\, the\nspeakers will bring Shakespeare's Macb
 eth forward as a lens through\nwhich to explore the convergence of art\, s
 cience\, technology\, and\nhuman experience. \n\n------------------------
 -\n\n* Register for the IN-PERSON EVENT\n[https://alumni.mcgill.ca/aoc/ev
 ents-travel/EventDetails.php?id=NTYxNDg%3D] (full\n- waitlist available)\
 n * Register for the VIRTUAL EVENT\n[https://alumni.mcgill.ca/aoc/events-
 travel/EventDetails.php?id=NTYwODg%3D]
DTSTAMP:20260424T191506Z
END:VEVENT
BEGIN:VEVENT
UID:69ebc13a56acf
DTSTART;TZID=America/Toronto:20251103T130000
SEQUENCE:0
TRANSP:TRANSPARENT
DTEND;TZID=America/Toronto:20251103T150000
URL:https://uwaterloo.ca/complexity-innovation/events/wici-talk-woi-oh
LOCATION:DC - William G. Davis Computer Research Centre 200 University Aven
 ue West Waterloo ON N2L 3G1 Canada
SUMMARY:WICI Talk with Woi Oh
CLASS:PUBLIC
DESCRIPTION:Join us in welcoming Woi Oh to WICI.  He will present his talk
 \,\n\n\"UNDERSTANDING DYNAMICS OF FORCED MIGRATION AND CONFLICT THROUGH TH
 E\nLENS OF COMPLEX SYSTEMS\".\n\n📅 NOVEMBER 3\,2025\n\n📍DC 1301 for
  refreshments\; DC 1302 for the talk\n\n🕑1:00-3:00PM
DTSTAMP:20260424T191506Z
END:VEVENT
BEGIN:VEVENT
UID:69ebc13a57d0b
DTSTART;TZID=America/Toronto:20250317T150000
SEQUENCE:0
TRANSP:TRANSPARENT
DTEND;TZID=America/Toronto:20250317T163000
URL:https://uwaterloo.ca/complexity-innovation/events/wici-speaker-series-r
 esearch-funding-complex-system
LOCATION:DC - William G. Davis Computer Research Centre 200 University Aven
 ue West Room 1302 Waterloo ON N2L 3G1 Canada
SUMMARY:WICI Speaker Series: Research Funding as a Complex System
CLASS:PUBLIC
DESCRIPTION:WICI Speaker Series with James Shelley on Monday March 17 from 
 3 -\n4:30
DTSTAMP:20260424T191506Z
END:VEVENT
BEGIN:VEVENT
UID:69ebc13a58d90
DTSTART;TZID=America/Toronto:20250211T133000
SEQUENCE:0
TRANSP:TRANSPARENT
DTEND;TZID=America/Toronto:20250211T150000
URL:https://uwaterloo.ca/complexity-innovation/events/wici-speaker-series-i
 ra-allen
LOCATION:DC - William G. Davis Computer Research Centre 200 University Aven
 ue West Room 1304 Waterloo ON N2L 3G1 Canada
SUMMARY:WICI Speaker Series - Ira Allen
CLASS:PUBLIC
DESCRIPTION:Ira Allen\, Associate Professor of Rhetoric\, Writing\, and Dig
 ital Media\nStudies at Northern Arizona University\, discusses how \"witn
 essing\"\noffers a democratic way to navigate societal collapse as the\nin
 frastructures of our lifeworld decomplexify while individual efforts\nto u
 nderstand that world increase in complexity. ​
DTSTAMP:20260424T191506Z
END:VEVENT
BEGIN:VEVENT
UID:69ebc13a59ca0
DTSTART;TZID=America/Toronto:20241027T120000
SEQUENCE:0
TRANSP:TRANSPARENT
DTEND;TZID=America/Toronto:20241027T150000
URL:https://uwaterloo.ca/complexity-innovation/events/wici-speaker-series-s
 ocial-cooperative-economics-and
LOCATION:TWB Cooperative Brewing 300 Mill Street Unit 1 Kitchener ON Canada
SUMMARY:WICI Speaker Series &amp; Social: Cooperative Economics and Management
CLASS:PUBLIC
DESCRIPTION:WICI Speaker Series and Social presents Jerome Warren on Cooper
 ative\nEconomics and Management at Together We're Bitter Cooperative Brewi
 ng\n(Kitchener\, Ontario) on Sunday\, October 27
DTSTAMP:20260424T191506Z
END:VEVENT
BEGIN:VEVENT
UID:69ebc13a5b08e
DTSTART;TZID=America/Toronto:20240917T113000
SEQUENCE:0
TRANSP:TRANSPARENT
DTEND;TZID=America/Toronto:20240917T123000
URL:https://uwaterloo.ca/complexity-innovation/events/wici-fall-2024-open-h
 ouse
LOCATION:DC - William G. Davis Computer Research Centre 200 University Aven
 ue West Room DC 1301 Waterloo ON N2L 3G1 Canada
SUMMARY:WICI Fall 2024 Open House
CLASS:PUBLIC
DESCRIPTION:WICI Fall 2024 Open House Event at University of Waterloo
DTSTAMP:20260424T191506Z
END:VEVENT
END:VCALENDAR