BEGIN:VCALENDAR
VERSION:2.0
PRODID:-//Drupal iCal API//EN
X-WR-CALNAME:Events items teaser
X-WR-TIMEZONE:America/Toronto
BEGIN:VTIMEZONE
TZID:America/Toronto
X-LIC-LOCATION:America/Toronto
BEGIN:DAYLIGHT
TZNAME:EDT
TZOFFSETFROM:-0500
TZOFFSETTO:-0400
DTSTART:20250309T070000
END:DAYLIGHT
BEGIN:STANDARD
TZNAME:EST
TZOFFSETFROM:-0400
TZOFFSETTO:-0500
DTSTART:20241103T060000
END:STANDARD
END:VTIMEZONE
BEGIN:VEVENT
UID:69ec2dea7a39a
DTSTART;TZID=America/Toronto:20251025T110000
SEQUENCE:0
TRANSP:TRANSPARENT
DTEND;TZID=America/Toronto:20251025T160000
URL:https://uwaterloo.ca/computer-museum/events/open-house-october-25-2025
LOCATION:DC - William G. Davis Computer Research Centre 200 University Aven
 ue West Waterloo ON N2L 3G1 Canada
SUMMARY:Open House - October 25\, 2025
CLASS:PUBLIC
DESCRIPTION:On Saturday\, October 25\, we will be holding our termly Comput
 er Museum\nOpen House\, themed around APL. The event will run from 11:00am
  to\n4:00pm in DC 1301 (the \"Fishbowl\") and will feature interactive\nex
 hibits and a guest speaker!
DTSTAMP:20260425T025850Z
END:VEVENT
END:VCALENDAR