BEGIN:VCALENDAR
VERSION:2.0
PRODID:-//Drupal iCal API//EN
X-WR-CALNAME:Events items teaser
X-WR-TIMEZONE:America/Toronto
BEGIN:VTIMEZONE
TZID:America/Toronto
X-LIC-LOCATION:America/Toronto
BEGIN:DAYLIGHT
TZNAME:EDT
TZOFFSETFROM:-0500
TZOFFSETTO:-0400
DTSTART:20150308T070000
END:DAYLIGHT
BEGIN:STANDARD
TZNAME:EST
TZOFFSETFROM:-0400
TZOFFSETTO:-0500
DTSTART:20141102T060000
END:STANDARD
END:VTIMEZONE
BEGIN:VEVENT
UID:69e5ed1ed1aa8
DTSTART;TZID=America/Toronto:20150527T093000
SEQUENCE:0
TRANSP:TRANSPARENT
DTEND;TZID=America/Toronto:20150527T153000
URL:https://uwaterloo.ca/computer-museum/events/reading-artifacts-workshop-
 may-2015
LOCATION:DC - William G. Davis Computer Research Centre 200 University Aven
 ue West Waterloo ON N2L 3G1 Canada
SUMMARY:Reading Artifacts Workshop (May 2015)
CLASS:PUBLIC
DESCRIPTION: Learn to \"read\" objects from UWaterloo's rich computer hist
 ory and\nhelp design an exhibit! 
DTSTAMP:20260420T090846Z
END:VEVENT
END:VCALENDAR