BEGIN:VCALENDAR
VERSION:2.0
PRODID:-//Drupal iCal API//EN
X-WR-CALNAME:Events items teaser
X-WR-TIMEZONE:America/Toronto
BEGIN:VTIMEZONE
TZID:America/Toronto
X-LIC-LOCATION:America/Toronto
BEGIN:DAYLIGHT
TZNAME:EDT
TZOFFSETFROM:-0500
TZOFFSETTO:-0400
DTSTART:20200308T070000
END:DAYLIGHT
BEGIN:STANDARD
TZNAME:EST
TZOFFSETFROM:-0400
TZOFFSETTO:-0500
DTSTART:20191103T060000
END:STANDARD
END:VTIMEZONE
BEGIN:VEVENT
UID:69e5ccaac63da
DTSTART;TZID=America/Toronto:20200623T143000
SEQUENCE:0
TRANSP:TRANSPARENT
DTEND;TZID=America/Toronto:20200623T160000
URL:https://uwaterloo.ca/computer-science/events/unconscious-bias-how-recog
 nize-and-interrupt-it
LOCATION:200 University Avenue West Virtual event Waterloo ON N2L 3G1 Canad
 a
SUMMARY:Unconscious Bias: How to Recognize and Interrupt It
CLASS:PUBLIC
DESCRIPTION:_Please join Women in Computer Science for this free\, virtual 
 event\nwith Kathleen Nalty [https://kathleennaltyconsulting.com/about/]\,
  an\nexpert in strategies to create cultures of inclusion to retain and\
 nadvance diverse talent._\n\n [image by Nathan Dumlao on Unsplash depictin
 g diversity]
DTSTAMP:20260420T065018Z
END:VEVENT
END:VCALENDAR