BEGIN:VCALENDAR
VERSION:2.0
PRODID:-//Drupal iCal API//EN
X-WR-CALNAME:Events items teaser
X-WR-TIMEZONE:America/Toronto
BEGIN:VTIMEZONE
TZID:America/Toronto
X-LIC-LOCATION:America/Toronto
BEGIN:DAYLIGHT
TZNAME:EDT
TZOFFSETFROM:-0500
TZOFFSETTO:-0400
DTSTART:20200308T070000
END:DAYLIGHT
BEGIN:STANDARD
TZNAME:EST
TZOFFSETFROM:-0400
TZOFFSETTO:-0500
DTSTART:20201101T060000
END:STANDARD
END:VTIMEZONE
BEGIN:VEVENT
UID:69e663d5f1976
DTSTART;TZID=America/Toronto:20201103T100000
SEQUENCE:0
TRANSP:TRANSPARENT
DTEND;TZID=America/Toronto:20201103T100000
URL:https://uwaterloo.ca/computer-science/events/seminar-systems-and-networ
 king-rational-contracts-data-driven-control-and-service-provisioning-in-bl
 ockchain-powered-systems
LOCATION:200 University Avenue West Online seminar Waterloo ON N2L 3G1 Cana
 da
SUMMARY:Seminar • Systems and Networking — Rational Contracts: Data-dri
 ven\nControl and Service Provisioning in Blockchain-powered Systems
CLASS:PUBLIC
DESCRIPTION:PLEASE NOTE: THIS SEMINAR WILL BE GIVEN ONLINE.\n\nAIMAN ERBAD\
 , COLLEGE OF SCIENCE AND ENGINEERING\n_Hamad Bin Khalifa University_\n\nT
 OPICS COVERED: Blockchain and machine learning
DTSTAMP:20260420T173517Z
END:VEVENT
END:VCALENDAR