BEGIN:VCALENDAR
VERSION:2.0
PRODID:-//Drupal iCal API//EN
X-WR-CALNAME:Events items teaser
X-WR-TIMEZONE:America/Toronto
BEGIN:VTIMEZONE
TZID:America/Toronto
X-LIC-LOCATION:America/Toronto
BEGIN:DAYLIGHT
TZNAME:EDT
TZOFFSETFROM:-0500
TZOFFSETTO:-0400
DTSTART:20220313T070000
END:DAYLIGHT
BEGIN:STANDARD
TZNAME:EST
TZOFFSETFROM:-0400
TZOFFSETTO:-0500
DTSTART:20211107T060000
END:STANDARD
END:VTIMEZONE
BEGIN:VEVENT
UID:69e4cdd4d3b70
DTSTART;TZID=America/Toronto:20220729T120000
SEQUENCE:0
TRANSP:TRANSPARENT
DTEND;TZID=America/Toronto:20220729T130000
URL:https://uwaterloo.ca/computer-science/events/phd-seminar-ai-av-revealed
 -multiobjective-utility-aggregation-using-model-rationalizability
LOCATION:200 University Avenue West Online PhD seminar Waterloo ON N2L 3G1 
 Canada
SUMMARY:PhD Seminar • Artificial Intelligence | Autonomous Vehicles •\n
 Revealed Multiobjective Utility Aggregation Using Model\nRationalizability
CLASS:PUBLIC
DESCRIPTION:PLEASE NOTE: THIS PHD SEMINAR WILL TAKE PLACE ONLINE.\n\nATRISH
 A SARKAR\, PHD CANDIDATE\n_David R. Cheriton School of Computer Science_\n
 \nSUPERVISOR: Professor Krzysztof Czarnecki
DTSTAMP:20260419T124300Z
END:VEVENT
END:VCALENDAR