BEGIN:VCALENDAR
VERSION:2.0
PRODID:-//Drupal iCal API//EN
X-WR-CALNAME:Events items teaser
X-WR-TIMEZONE:America/Toronto
BEGIN:VTIMEZONE
TZID:America/Toronto
X-LIC-LOCATION:America/Toronto
BEGIN:DAYLIGHT
TZNAME:EDT
TZOFFSETFROM:-0500
TZOFFSETTO:-0400
DTSTART:20220313T070000
END:DAYLIGHT
BEGIN:STANDARD
TZNAME:EST
TZOFFSETFROM:-0400
TZOFFSETTO:-0500
DTSTART:20211107T060000
END:STANDARD
END:VTIMEZONE
BEGIN:VEVENT
UID:69e46ad719211
DTSTART;TZID=America/Toronto:20220803T133000
SEQUENCE:0
TRANSP:TRANSPARENT
DTEND;TZID=America/Toronto:20220803T143000
URL:https://uwaterloo.ca/computer-science/events/seminar-algorithms-and-com
 plexity-computability-and-complexity-in-analytic-combinatorics
LOCATION:DC - William G. Davis Computer Research Centre 200 University Aven
 ue West DC 1302 | Online seminar Waterloo ON N2L 3G1 Canada
SUMMARY:Seminar • Algorithms and Complexity • Computability and Complex
 ity\nin Analytic Combinatorics
CLASS:PUBLIC
DESCRIPTION:PLEASE NOTE: THIS SEMINAR WILL TAKE PLACE IN DC 1302 AND ONLINE
 .\n\nSTEVE MELCZER\, ASSISTANT PROFESSOR\n_Department of Combinatorics and
  Optimization_
DTSTAMP:20260419T054039Z
END:VEVENT
END:VCALENDAR