BEGIN:VCALENDAR
VERSION:2.0
PRODID:-//Drupal iCal API//EN
X-WR-CALNAME:Events items teaser
X-WR-TIMEZONE:America/Toronto
BEGIN:VTIMEZONE
TZID:America/Toronto
X-LIC-LOCATION:America/Toronto
BEGIN:DAYLIGHT
TZNAME:EDT
TZOFFSETFROM:-0500
TZOFFSETTO:-0400
DTSTART:20230312T070000
END:DAYLIGHT
BEGIN:STANDARD
TZNAME:EST
TZOFFSETFROM:-0400
TZOFFSETTO:-0500
DTSTART:20231105T060000
END:STANDARD
END:VTIMEZONE
BEGIN:VEVENT
UID:69e65f6fa0a1c
DTSTART;TZID=America/Toronto:20231129T120000
SEQUENCE:0
TRANSP:TRANSPARENT
DTEND;TZID=America/Toronto:20231129T130000
URL:https://uwaterloo.ca/computer-science/events/phd-seminar-data-systems-r
 ecovery-from-non-decomposable-distance-oracles
LOCATION:DC - William G. Davis Computer Research Centre 200 University Aven
 ue West Hybrid: DC 1304 | Online PhD seminar Waterloo ON N2L 3G1 Canada
SUMMARY:PhD Seminar • Data Systems • Recovery from Non-decomposable\nDi
 stance Oracles
CLASS:PUBLIC
DESCRIPTION:PLEASE NOTE: THIS PHD SEMINAR WILL TAKE PLACE IN DC 1304 AND ON
 LINE.\n\nSHUFAN ZHANG\, PHD CANDIDATE\n_David R. Cheriton School of Comput
 er Science_\n\nSUPERVISOR: Professor Xi He
DTSTAMP:20260420T171631Z
END:VEVENT
END:VCALENDAR