BEGIN:VCALENDAR
VERSION:2.0
PRODID:-//Drupal iCal API//EN
X-WR-CALNAME:Events items teaser
X-WR-TIMEZONE:America/Toronto
BEGIN:VTIMEZONE
TZID:America/Toronto
X-LIC-LOCATION:America/Toronto
BEGIN:DAYLIGHT
TZNAME:EDT
TZOFFSETFROM:-0500
TZOFFSETTO:-0400
DTSTART:20130310T070000
END:DAYLIGHT
BEGIN:STANDARD
TZNAME:EST
TZOFFSETFROM:-0400
TZOFFSETTO:-0500
DTSTART:20131103T060000
END:STANDARD
END:VTIMEZONE
BEGIN:VEVENT
UID:69eb6041ed294
DTSTART;TZID=America/Toronto:20140116T180000
SEQUENCE:0
TRANSP:TRANSPARENT
DTEND;TZID=America/Toronto:20140116T190000
URL:https://uwaterloo.ca/computer-science/events/future-computer-science-gr
 ad-night
LOCATION:MC - Mathematics &amp; Computer Building 200 University Avenue West MC
  5136 Waterloo ON N2L 3G1 Canada
SUMMARY:Future Computer Science Grad Night
CLASS:PUBLIC
DESCRIPTION:Are you interested in graduate studies in computer science? Wou
 ld you\nlike to speak with someone to learn more about admissions\, progra
 ms\,\nand research projects?\n\nIf so\, drop by\, grab some FREE food\, an
 d speak to one of our Computer\nScience Graduate Ambassadors [/computer-sc
 ience/node/462].\n\nLearn more about:\n\n* Admissions\n * Program options\
 n * Research\n * And more!\n\nThis event will take place following the Mat
 h Graduate Information\nSession [/computer-science/node/906].
DTSTAMP:20260424T122121Z
END:VEVENT
END:VCALENDAR