BEGIN:VCALENDAR
VERSION:2.0
PRODID:-//Drupal iCal API//EN
X-WR-CALNAME:Events items teaser
X-WR-TIMEZONE:America/Toronto
BEGIN:VTIMEZONE
TZID:America/Toronto
X-LIC-LOCATION:America/Toronto
BEGIN:DAYLIGHT
TZNAME:EDT
TZOFFSETFROM:-0500
TZOFFSETTO:-0400
DTSTART:20140309T070000
END:DAYLIGHT
BEGIN:STANDARD
TZNAME:EST
TZOFFSETFROM:-0400
TZOFFSETTO:-0500
DTSTART:20131103T060000
END:STANDARD
END:VTIMEZONE
BEGIN:VEVENT
UID:69e8c3a1e4926
DTSTART;TZID=America/Toronto:20140310T133000
SEQUENCE:0
TRANSP:TRANSPARENT
DTEND;TZID=America/Toronto:20140314T133000
URL:https://uwaterloo.ca/computer-science/events/march-break-faculty-tours
LOCATION:SCH - South Campus Hall 200 University Avenue West Waterloo ON N2L
  3G1 Canada
SUMMARY:March Break Faculty Tours
CLASS:PUBLIC
DESCRIPTION:Take a guided tour of our math and computing buildings any day 
 during\nMarch Break and learn about our Computer Science programs.\n\nCamp
 us tours can be booked through our Visitors Centre with the option\nto tak
 e a special tour with a representative from the Cheriton School\nof Comput
 er Science.\n\nInquire with our Visitors' Centre about how to participate.
DTSTAMP:20260422T124833Z
END:VEVENT
END:VCALENDAR