BEGIN:VCALENDAR
VERSION:2.0
PRODID:-//Drupal iCal API//EN
X-WR-CALNAME:Events items teaser
X-WR-TIMEZONE:America/Toronto
BEGIN:VTIMEZONE
TZID:America/Toronto
X-LIC-LOCATION:America/Toronto
BEGIN:DAYLIGHT
TZNAME:EDT
TZOFFSETFROM:-0500
TZOFFSETTO:-0400
DTSTART:20140309T070000
END:DAYLIGHT
BEGIN:STANDARD
TZNAME:EST
TZOFFSETFROM:-0400
TZOFFSETTO:-0500
DTSTART:20131103T060000
END:STANDARD
END:VTIMEZONE
BEGIN:VEVENT
UID:69eb7a7cefb29
DTSTART;TZID=America/Toronto:20140917T163000
SEQUENCE:0
TRANSP:TRANSPARENT
DTEND;TZID=America/Toronto:20140917T180000
URL:https://uwaterloo.ca/computer-science/events/graduate-studies-informati
 on-session
LOCATION:M3 - Mathematics 3 200 University Avenue West Waterloo ON N2L 3G1 
 Canada
SUMMARY:Graduate studies information session
CLASS:PUBLIC
DESCRIPTION:Second\, third and fourth year students are invited to learn ab
 out\ngraduate studies in Computer Science and other math programs by\natte
 nding this information session led by our faculty members.\n\nPrograms inc
 lude:
DTSTAMP:20260424T141316Z
END:VEVENT
END:VCALENDAR