BEGIN:VCALENDAR
VERSION:2.0
PRODID:-//Drupal iCal API//EN
X-WR-CALNAME:Events items teaser
X-WR-TIMEZONE:America/Toronto
BEGIN:VTIMEZONE
TZID:America/Toronto
X-LIC-LOCATION:America/Toronto
BEGIN:DAYLIGHT
TZNAME:EDT
TZOFFSETFROM:-0500
TZOFFSETTO:-0400
DTSTART:20150308T070000
END:DAYLIGHT
BEGIN:STANDARD
TZNAME:EST
TZOFFSETFROM:-0400
TZOFFSETTO:-0500
DTSTART:20141102T060000
END:STANDARD
END:VTIMEZONE
BEGIN:VEVENT
UID:69e83cdf7d9a0
DTSTART;TZID=America/Toronto:20150925T100000
SEQUENCE:0
TRANSP:TRANSPARENT
DTEND;TZID=America/Toronto:20150927T170000
URL:https://uwaterloo.ca/computer-science/events/ontario-universities-fair
LOCATION:Metro Toronto Convention Centre 222 Bremner Blvd UWaterloo present
 ations in room 718A Toronto ON M5V 2T6 Canada
SUMMARY:Ontario Universities' Fair
CLASS:PUBLIC
DESCRIPTION:Future undergraduate students and their families are invited to
  meet\nwith representatives from the Faculty of Mathematics and the School
  of\nComputer Science at the Ontario Universities' Fair in Toronto.\n\n [O
 ntario Universities' Fair 2014]
DTSTAMP:20260422T031335Z
END:VEVENT
END:VCALENDAR