BEGIN:VCALENDAR
VERSION:2.0
PRODID:-//Drupal iCal API//EN
X-WR-CALNAME:Events items teaser
X-WR-TIMEZONE:America/Toronto
BEGIN:VTIMEZONE
TZID:America/Toronto
X-LIC-LOCATION:America/Toronto
BEGIN:DAYLIGHT
TZNAME:EDT
TZOFFSETFROM:-0500
TZOFFSETTO:-0400
DTSTART:20150308T070000
END:DAYLIGHT
BEGIN:STANDARD
TZNAME:EST
TZOFFSETFROM:-0400
TZOFFSETTO:-0500
DTSTART:20151101T060000
END:STANDARD
END:VTIMEZONE
BEGIN:VEVENT
UID:69e88ce108e68
DTSTART;TZID=America/Toronto:20160122T154500
SEQUENCE:0
TRANSP:TRANSPARENT
DTEND;TZID=America/Toronto:20160122T154500
URL:https://uwaterloo.ca/computer-science/events/scs-colloquium-series-rick
 -haldenby-design-and-davis-centre
LOCATION:DC - William G. Davis Computer Research Centre 200 University Aven
 ue West DC 1302 Waterloo ON N2L 3G1 Canada
SUMMARY:SCS Colloquium Series: Rick Haldenby - Design and the Davis Centre:
  a\npersonal and irreverent account
CLASS:PUBLIC
DESCRIPTION:[Rick Haldenby] Rick Haldenby\n\nSchool of Architecture\nUniver
 sity of Waterloo\n\nFriday\, January 22\, 2016\n3:45 p.m.\n\nDC 1302\n\nAb
 stract:
DTSTAMP:20260422T085457Z
END:VEVENT
END:VCALENDAR