BEGIN:VCALENDAR
VERSION:2.0
PRODID:-//Drupal iCal API//EN
X-WR-CALNAME:Events items teaser
X-WR-TIMEZONE:America/Toronto
BEGIN:VTIMEZONE
TZID:America/Toronto
X-LIC-LOCATION:America/Toronto
BEGIN:DAYLIGHT
TZNAME:EDT
TZOFFSETFROM:-0500
TZOFFSETTO:-0400
DTSTART:20160313T070000
END:DAYLIGHT
BEGIN:STANDARD
TZNAME:EST
TZOFFSETFROM:-0400
TZOFFSETTO:-0500
DTSTART:20161106T060000
END:STANDARD
END:VTIMEZONE
BEGIN:VEVENT
UID:69ea8a37a182c
DTSTART;TZID=America/Toronto:20161108T163000
SEQUENCE:0
TRANSP:TRANSPARENT
DTEND;TZID=America/Toronto:20161108T180000
URL:https://uwaterloo.ca/computer-science/events/computer-science-and-math-
 graduate-information-session
LOCATION:MC - Mathematics &amp; Computer Building 200 University Avenue West Wa
 terloo ON N2L 3G1 Canada
SUMMARY:Computer Science and Math Graduate Information Session
CLASS:PUBLIC
DESCRIPTION:Second\, third and fourth-year undergraduate students are invit
 ed to\ncome out and learn more about graduate studies in Faculty of\nMathe
 matics.
DTSTAMP:20260423T210807Z
END:VEVENT
END:VCALENDAR