BEGIN:VCALENDAR
VERSION:2.0
PRODID:-//Drupal iCal API//EN
X-WR-CALNAME:Events items teaser
X-WR-TIMEZONE:America/Toronto
BEGIN:VTIMEZONE
TZID:America/Toronto
X-LIC-LOCATION:America/Toronto
BEGIN:DAYLIGHT
TZNAME:EDT
TZOFFSETFROM:-0500
TZOFFSETTO:-0400
DTSTART:20160313T070000
END:DAYLIGHT
BEGIN:STANDARD
TZNAME:EST
TZOFFSETFROM:-0400
TZOFFSETTO:-0500
DTSTART:20161106T060000
END:STANDARD
END:VTIMEZONE
BEGIN:VEVENT
UID:69eb6037707b9
DTSTART;TZID=America/Toronto:20161123T160000
SEQUENCE:0
TRANSP:TRANSPARENT
DTEND;TZID=America/Toronto:20161123T180000
URL:https://uwaterloo.ca/computer-science/events/computer-science-ura-appre
 ciation
LOCATION:MC - Mathematics &amp; Computer Building 200 University Avenue West Wa
 terloo ON N2L 3G1 Canada
SUMMARY:Computer Science URA appreciation
CLASS:PUBLIC
DESCRIPTION:Faculty and Computer Science Undergraduate Research Assistants 
 (URAs)\nare invited to participate in the inaugural URA appreciation event
 \nhosted by the Graduate Recruitment Committee.\n\nThis reception is for s
 tudents and faculty to come together to share\ntheir research ideas\, show
 case projects and discover additional\neducational opportunities.\n\nAppet
 izers and refreshments will be included.
DTSTAMP:20260424T122111Z
END:VEVENT
END:VCALENDAR