BEGIN:VCALENDAR
VERSION:2.0
PRODID:-//Drupal iCal API//EN
X-WR-CALNAME:Events items teaser
X-WR-TIMEZONE:America/Toronto
BEGIN:VTIMEZONE
TZID:America/Toronto
X-LIC-LOCATION:America/Toronto
BEGIN:DAYLIGHT
TZNAME:EDT
TZOFFSETFROM:-0500
TZOFFSETTO:-0400
DTSTART:20170312T070000
END:DAYLIGHT
BEGIN:STANDARD
TZNAME:EST
TZOFFSETFROM:-0400
TZOFFSETTO:-0500
DTSTART:20161106T060000
END:STANDARD
END:VTIMEZONE
BEGIN:VEVENT
UID:69eb641220af2
DTSTART;VALUE=DATE:20170601
SEQUENCE:0
TRANSP:TRANSPARENT
DTEND;VALUE=DATE:20170602
URL:https://uwaterloo.ca/computer-science/events/winter-term-deadline-gradu
 ate-admissions
SUMMARY:Winter term deadline for graduate admissions
CLASS:PUBLIC
DESCRIPTION:The deadline to apply for winter term entry for our graduate st
 udies\nprograms — both master's and PhD [/computer-science/node/404] —
  is\nJune 1\, 2017.\n\nYou should begin your application _AT LEAST TWO WEE
 KS_ before the\napplication deadline to arrange for us to receive your sup
 porting\ndocuments and references [/computer-science/node/409].\n\nFREQUEN
 TLY ASKED QUESTIONS\n\nFind some of the common questions [/computer-scienc
 e/node/410] we\nreceive about graduate admissions including:
X-MICROSOFT-CDO-ALLDAYEVENT:TRUE
DTSTAMP:20260424T123738Z
END:VEVENT
END:VCALENDAR