BEGIN:VCALENDAR
VERSION:2.0
PRODID:-//Drupal iCal API//EN
X-WR-CALNAME:Events items teaser
X-WR-TIMEZONE:America/Toronto
BEGIN:VTIMEZONE
TZID:America/Toronto
X-LIC-LOCATION:America/Toronto
BEGIN:DAYLIGHT
TZNAME:EDT
TZOFFSETFROM:-0500
TZOFFSETTO:-0400
DTSTART:20260308T070000
END:DAYLIGHT
BEGIN:STANDARD
TZNAME:EST
TZOFFSETFROM:-0400
TZOFFSETTO:-0500
DTSTART:20251102T060000
END:STANDARD
END:VTIMEZONE
BEGIN:VEVENT
UID:69e5e69fba505
DTSTART;TZID=America/Toronto:20260410T140000
SEQUENCE:0
TRANSP:TRANSPARENT
DTEND;TZID=America/Toronto:20260410T170000
URL:https://uwaterloo.ca/computer-science/events/phd-defence-syn-efficientl
 y-training-deep-learning-models-elastic-heterogeneous-cloud-resources
LOCATION:DC - William G. Davis Computer Research Centre 200 University Aven
 ue West Online PhD defence Waterloo ON N2L 3G1 Canada
SUMMARY:PhD Defence • Systems and Networking • Efficiently Training Dee
 p\nLearning Models on Elastic and Heterogeneous Cloud Resources
CLASS:PUBLIC
DESCRIPTION:PLEASE NOTE: THIS PHD DEFENCE WILL TAKE PLACE ONLINE.\n\nRUNSHE
 NG (BENSON) GUO\, PHD CANDIDATE\n_David R. Cheriton School of Computer Sci
 ence_\n\nSUPERVISOR: Professor Khuzaima Daudjee
DTSTAMP:20260420T084103Z
END:VEVENT
END:VCALENDAR