BEGIN:VCALENDAR
VERSION:2.0
PRODID:-//Drupal iCal API//EN
X-WR-CALNAME:Events items teaser
X-WR-TIMEZONE:America/Toronto
BEGIN:VTIMEZONE
TZID:America/Toronto
X-LIC-LOCATION:America/Toronto
BEGIN:DAYLIGHT
TZNAME:EDT
TZOFFSETFROM:-0500
TZOFFSETTO:-0400
DTSTART:20260308T070000
END:DAYLIGHT
BEGIN:STANDARD
TZNAME:EST
TZOFFSETFROM:-0400
TZOFFSETTO:-0500
DTSTART:20251102T060000
END:STANDARD
END:VTIMEZONE
BEGIN:VEVENT
UID:69e65f6c2c1dd
DTSTART;TZID=America/Toronto:20260401T103000
SEQUENCE:0
TRANSP:TRANSPARENT
DTEND;TZID=America/Toronto:20260401T113000
URL:https://uwaterloo.ca/computer-science/events/seminar-systems-and-networ
 king-workload-aware-networks-for-machine-learning
LOCATION:DC - William G. Davis Computer Research Centre 200 University Aven
 ue West DC 1304 Waterloo ON N2L 3G1 Canada
SUMMARY:Seminar • Systems and Networking • Workload-Aware Networks for\
 nMachine Learning
CLASS:PUBLIC
DESCRIPTION:PLEASE NOTE: THIS SEMINAR WILL TAKE PLACE IN DC 1304.\n\nWEIYAN
 G “FRANK” WANG\, PHD CANDIDATE\n_CSAIL\, Massachusetts Institute of Te
 chnology_
DTSTAMP:20260420T171628Z
END:VEVENT
END:VCALENDAR