BEGIN:VCALENDAR
VERSION:2.0
PRODID:-//Drupal iCal API//EN
X-WR-CALNAME:Events items teaser
X-WR-TIMEZONE:America/Toronto
BEGIN:VTIMEZONE
TZID:America/Toronto
X-LIC-LOCATION:America/Toronto
BEGIN:DAYLIGHT
TZNAME:EDT
TZOFFSETFROM:-0500
TZOFFSETTO:-0400
DTSTART:20260308T070000
END:DAYLIGHT
BEGIN:STANDARD
TZNAME:EST
TZOFFSETFROM:-0400
TZOFFSETTO:-0500
DTSTART:20251102T060000
END:STANDARD
END:VTIMEZONE
BEGIN:VEVENT
UID:69ece9879b47e
DTSTART;TZID=America/Toronto:20260622T130000
SEQUENCE:0
TRANSP:TRANSPARENT
DTEND;TZID=America/Toronto:20260622T160000
URL:https://uwaterloo.ca/computer-science/events/phd-defence-syn-efficient-
 high-precision-monitoring-of-network-slices-for-5g-and-beyond-networks
LOCATION:DC - William G. Davis Computer Research Centre 200 University Aven
 ue West DC 1331 Waterloo ON N2L 3G1 Canada
SUMMARY:PhD Defence • Systems and Networking • Efficient High-precision
 \nMonitoring of Network Slices for 5G and Beyond Networks
CLASS:PUBLIC
DESCRIPTION:PLEASE NOTE: THIS PHD DEFENCE WILL TAKE PLACE IN DC 1331.\n\nNI
 LOY SAHA\, PHD CANDIDATE\n_David R. Cheriton School of Computer Science_\n
 \nSUPERVISOR: Professor Raouf Boutaba
DTSTAMP:20260425T161919Z
END:VEVENT
END:VCALENDAR