BEGIN:VCALENDAR
VERSION:2.0
PRODID:-//Drupal iCal API//EN
X-WR-CALNAME:Events items teaser
X-WR-TIMEZONE:America/Toronto
BEGIN:VTIMEZONE
TZID:America/Toronto
X-LIC-LOCATION:America/Toronto
BEGIN:DAYLIGHT
TZNAME:EDT
TZOFFSETFROM:-0500
TZOFFSETTO:-0400
DTSTART:20170312T070000
END:DAYLIGHT
BEGIN:STANDARD
TZNAME:EST
TZOFFSETFROM:-0400
TZOFFSETTO:-0500
DTSTART:20161106T060000
END:STANDARD
END:VTIMEZONE
BEGIN:VEVENT
UID:69ec7fcc13360
DTSTART;TZID=America/Toronto:20171030T103000
SEQUENCE:0
TRANSP:TRANSPARENT
DTEND;TZID=America/Toronto:20171030T120000
URL:https://uwaterloo.ca/computer-science/events/dls-jeff-ullman-data-scien
 ce-it-real
LOCATION:QNC - Quantum Nano Centre 200 University Avenue West 0101 Waterloo
  ON N2L 3G1 Canada
SUMMARY:DLS • Jeff Ullman • Data Science: Is it Real?
CLASS:PUBLIC
DESCRIPTION:JEFF ULLMAN\n​Stanford University\n\nPLEASE NOTE THE ROOM AND
  TIME CHANGE. THE TALK WILL BE GIVEN IN QNC\n0101 AT 10:30 A.M.\, NOT DC 1
 304 AT 3:30 P.M. AS PREVIOUSLY ADVERTISED.
DTSTAMP:20260425T084812Z
END:VEVENT
END:VCALENDAR