BEGIN:VCALENDAR
VERSION:2.0
PRODID:-//Drupal iCal API//EN
X-WR-CALNAME:Events items teaser
X-WR-TIMEZONE:America/Toronto
BEGIN:VTIMEZONE
TZID:America/Toronto
X-LIC-LOCATION:America/Toronto
BEGIN:DAYLIGHT
TZNAME:EDT
TZOFFSETFROM:-0500
TZOFFSETTO:-0400
DTSTART:20190310T070000
END:DAYLIGHT
BEGIN:STANDARD
TZNAME:EST
TZOFFSETFROM:-0400
TZOFFSETTO:-0500
DTSTART:20191103T060000
END:STANDARD
END:VTIMEZONE
BEGIN:VEVENT
UID:69ed147c99877
DTSTART;TZID=America/Toronto:20191111T140000
SEQUENCE:0
TRANSP:TRANSPARENT
DTEND;TZID=America/Toronto:20191111T140000
URL:https://uwaterloo.ca/computer-science/events/seminar-software-engineeri
 ng-requirements-management-agile
LOCATION:MC - Mathematics &amp; Computer Building 200 University Avenue West 55
 01 Waterloo ON N2L 3G1 Canada
SUMMARY:Seminar • Software Engineering — Requirements Management in Agi
 le\nProjects
CLASS:PUBLIC
DESCRIPTION:MARCIA LUCENA\, DEPARTAMENTO DE INFORMÁTICA E MATEMÁTICA APLI
 CADA\n_Universidade Federal do Rio Grande do Norte\, Brazil_
DTSTAMP:20260425T192236Z
END:VEVENT
END:VCALENDAR