BEGIN:VCALENDAR
VERSION:2.0
PRODID:-//Drupal iCal API//EN
X-WR-CALNAME:Events items teaser
X-WR-TIMEZONE:America/Toronto
BEGIN:VTIMEZONE
TZID:America/Toronto
X-LIC-LOCATION:America/Toronto
BEGIN:DAYLIGHT
TZNAME:EDT
TZOFFSETFROM:-0500
TZOFFSETTO:-0400
DTSTART:20240310T070000
END:DAYLIGHT
BEGIN:DAYLIGHT
TZNAME:EDT
TZOFFSETFROM:-0500
TZOFFSETTO:-0400
DTSTART:20230312T070000
END:DAYLIGHT
BEGIN:DAYLIGHT
TZNAME:EDT
TZOFFSETFROM:-0500
TZOFFSETTO:-0400
DTSTART:20220313T070000
END:DAYLIGHT
BEGIN:STANDARD
TZNAME:EST
TZOFFSETFROM:-0400
TZOFFSETTO:-0500
DTSTART:20231105T060000
END:STANDARD
BEGIN:STANDARD
TZNAME:EST
TZOFFSETFROM:-0400
TZOFFSETTO:-0500
DTSTART:20221106T060000
END:STANDARD
BEGIN:STANDARD
TZNAME:EST
TZOFFSETFROM:-0400
TZOFFSETTO:-0500
DTSTART:20211107T060000
END:STANDARD
END:VTIMEZONE
BEGIN:VEVENT
UID:69ea7a6e00968
DTSTART;TZID=America/Toronto:20240611T143000
SEQUENCE:0
TRANSP:TRANSPARENT
DTEND;TZID=America/Toronto:20240611T160000
URL:https://uwaterloo.ca/computer-science/events/distinguished-public-lectu
 re-vint-cerf-internet-past-present-future
LOCATION:HH - J.G. Hagey Hall of the Humanities 200 University Ave Humaniti
 es Theatre Waterloo ON N2L 3G1 Canada
SUMMARY:Distinguished Public Lecture • Internet: Past\, Present and Futur
 e
CLASS:PUBLIC
DESCRIPTION:THIS DISTINGUISHED PUBLIC LECTURE WILL TAKE PLACE IN THE HUMANI
 TIES\nTHEATRE.\n\nVINTON G. CERF\nVice President and Chief Internet Evange
 list\nGoogle
DTSTAMP:20260423T200046Z
END:VEVENT
BEGIN:VEVENT
UID:69ea7a6e06d82
DTSTART;TZID=America/Toronto:20240404T163000
SEQUENCE:0
TRANSP:TRANSPARENT
DTEND;TZID=America/Toronto:20240404T183000
URL:https://uwaterloo.ca/computer-science/events/cs-383-computational-art-e
 xhibition
LOCATION:ECH - East Campus Hall 200 University Ave West ECH 1237 (Flex Spac
 e) Waterloo ON N2L 3G1 Canada
SUMMARY:CS 383 Computational Art Exhibition
CLASS:PUBLIC
DESCRIPTION:CS/FINE 383 is a third-year studio course where students work i
 n an\ninterdisciplinary environment to combine computer science principles
 \nwith fine art technical and conceptual skills. Experience novel\ncomputa
 tional art works and aesthetic experiences using generative\nagents\, adva
 nced computer vision\, distributed computing\, and more.\n\nWHERE IS THE 
 COMPUTATIONAL ART EXHIBITION?
DTSTAMP:20260423T200046Z
END:VEVENT
BEGIN:VEVENT
UID:69ea7a6e08a44
DTSTART;TZID=America/Toronto:20240206T130000
SEQUENCE:0
TRANSP:TRANSPARENT
DTEND;TZID=America/Toronto:20240206T140000
URL:https://uwaterloo.ca/computer-science/events/crysp-speaker-series-on-pr
 ivacy-how-gfw-of-china-detects-blocks-fully-encrypted-traffic
LOCATION:DC - William G. Davis Computer Research Centre 200 University Aven
 ue West Hybrid: DC 1304 | Online talk Waterloo ON N2L 3G1 Canada
SUMMARY:CrySP Speaker Series on Privacy • How the Great Firewall of China
 \nDetects and Blocks Fully Encrypted Traffic
CLASS:PUBLIC
DESCRIPTION:PLEASE NOTE: THIS TALK WILL TAKE PLACE IN DC 1304 AND ONLINE.\n
 \nALEX ZHANG\, GFW REPORT
DTSTAMP:20260423T200046Z
END:VEVENT
BEGIN:VEVENT
UID:69ea7a6e0a654
DTSTART;TZID=America/Toronto:20231028T100000
SEQUENCE:0
TRANSP:TRANSPARENT
DTEND;TZID=America/Toronto:20231028T160000
URL:https://uwaterloo.ca/computer-science/events/computer-museum-hardware-d
 ay
LOCATION:DC - William G. Davis Computer Research Centre 200 University Aven
 ue West DC 2585 Waterloo ON N2L 3G1 Canada
SUMMARY:Computer Museum Hardware Day
CLASS:PUBLIC
DESCRIPTION:The Waterloo Computer Museum [https://uwaterloo.ca/computer-mus
 eum/]\nis hosting a hardware day at which a number of older computers will
  be\non display and running.
DTSTAMP:20260423T200046Z
END:VEVENT
BEGIN:VEVENT
UID:69ea7a6e0b985
DTSTART;TZID=America/Toronto:20230411T083000
SEQUENCE:0
TRANSP:TRANSPARENT
DTEND;TZID=America/Toronto:20230411T173000
URL:https://uwaterloo.ca/computer-science/events/brain-day-2023
LOCATION:E7 - Engineering 7 200 University Ave West various rooms\, see abo
 ve Waterloo ON N2L 3G1 Canada
SUMMARY:Brain Day 2023 • Centre for Theoretical Neuroscience
CLASS:PUBLIC
DESCRIPTION:PLEASE NOTE: BRAIN DAY 2023 WILL TAKE PLACE IN ENGINEERING 7\, 
 VARIOUS\nROOMS.\n\n [image depicting Brain Day 2023]\n_The University of W
 aterloo’s Centre for Theoretical Neuroscience\nsupports the development 
 of robust explanatory theories of mind and\nbrain through education and re
 search._
DTSTAMP:20260423T200046Z
END:VEVENT
BEGIN:VEVENT
UID:69ea7a6e11c78
DTSTART;TZID=America/Toronto:20230412T133000
SEQUENCE:0
TRANSP:TRANSPARENT
DTEND;TZID=America/Toronto:20230412T150000
URL:https://uwaterloo.ca/computer-science/events/alphago-chatgpt-public-tal
 k
LOCATION:DC - William G. Davis Computer Research Centre 200 University Aven
 ue West DC 1350 Waterloo ON N2L 3G1 Canada
SUMMARY:From AlphaGO to ChatGPT Public Talk
CLASS:PUBLIC
DESCRIPTION:Sponsored by the Faculty of Mathematics Data Science Graduate\n
 Programs\, please join Cheriton School of Computer Science expert in\nart
 ificial intelligence\, Professor Pascal Poupart\, for a public talk\nin wh
 ich he will describe the key technological advances in recent\nyears that 
 were behind AlphaGo and ChatGPT and ultimately facilitated\nthese breakthr
 oughs.\n\nIn recent years\, we have seen the following —
DTSTAMP:20260423T200046Z
END:VEVENT
BEGIN:VEVENT
UID:69ea7a6e12f87
DTSTART;TZID=America/Toronto:20221111T110000
SEQUENCE:0
TRANSP:TRANSPARENT
DTEND;TZID=America/Toronto:20221111T120000
URL:https://uwaterloo.ca/computer-science/events/seminar-systems-and-networ
 king-current-and-future-considerations-in-uas-traffic-management
LOCATION:DC - William G. Davis Computer Research Centre 200 University Aven
 ue West Hybrid: DC 1302 | Online seminar Waterloo ON N2L 3G1 Canada
SUMMARY:Seminar • Systems and Networking • Current &amp; Future Considerati
 ons\nin UAS Traffic Management: R&amp;D Efforts Towards Safe Urban UAV\nOperat
 ions
CLASS:PUBLIC
DESCRIPTION:PLEASE NOTE: THIS SEMINAR WILL TAKE PLACE IN DC 1302 AND ONLINE
 .\n\nKIN HUAT LOW\, SCHOOL OF MECHANICAL AND AEROSPACE ENGINEERING\n_Nanya
 ng Technological University_\n\nUnmanned aerial vehicles (or known as dron
 es) are becoming popular for\nservicing\, inspection\, surveillance\, and 
 commercial activities in\nrecent years. Such activities\, however\, are hi
 ndered by some\nchallenges that are inherent in urban flight operations.
DTSTAMP:20260423T200046Z
END:VEVENT
BEGIN:VEVENT
UID:69ea7a6e142b8
DTSTART;TZID=America/Toronto:20220615T140000
SEQUENCE:0
TRANSP:TRANSPARENT
DTEND;TZID=America/Toronto:20220615T153000
URL:https://uwaterloo.ca/computer-science/events/dls-tony-chan
LOCATION:DC - William G. Davis Computer Research Centre 200 University Aven
 ue West 1302 | Livestreamed on MS Teams Waterloo ON N2L 3G1 Canada
SUMMARY:DLS: Tony Chan — A Personal and Historical View of Computational\
 nMathematics
CLASS:PUBLIC
DESCRIPTION:PLEASE NOTE: THIS DLS PRESENTATION WILL BE GIVEN IN PERSON IN D
 C 1302\nAND LIVESTREAMED OVER MS TEAMS.\n\nTONY CHAN\n_President\, King Ab
 dullah University of Science and Technology (KAUST)\nProfessor\, Applied M
 athematics and Computational Science_\n\nIn its modern incarnation\, compu
 tational mathematics is a discipline\nthat blossomed only after WWII. But 
 even in its relatively brief\nhistory\, there have been some major shifts 
 in its methodology\,\nemphasis\, and applications.
DTSTAMP:20260423T200046Z
END:VEVENT
BEGIN:VEVENT
UID:69ea7a6e159d0
DTSTART;TZID=America/Toronto:20220525T110000
SEQUENCE:0
TRANSP:TRANSPARENT
DTEND;TZID=America/Toronto:20220525T123000
URL:https://uwaterloo.ca/computer-science/events/dls-kai-li-machine-learnin
 g-meets-system-designs
LOCATION:200 University Avenue West Online Distinguished Lecture Waterloo O
 N N2L 3G1 Canada
SUMMARY:DLS: Kai Li — Machine Learning Meets System Designs: Experience w
 ith\nDesigning Learned Cache Systems
CLASS:PUBLIC
DESCRIPTION:KAI LI\n_Paul M. Wythes '55\, P'86 and Marcia R. Wythes P'86 Pr
 ofessor\nDepartment of Computer Science\, Princeton University_
DTSTAMP:20260423T200046Z
END:VEVENT
BEGIN:VEVENT
UID:69ea7a6e16b57
DTSTART;TZID=America/Toronto:20220413T190000
SEQUENCE:0
TRANSP:TRANSPARENT
DTEND;TZID=America/Toronto:20220413T203000
URL:https://uwaterloo.ca/computer-science/events/cs-497-showcase
LOCATION:200 University Avenue West Online showcase event Waterloo ON N2L 3
 G1 Canada
SUMMARY:Students showcase final projects from CS 497\, a new course on\ncom
 puting and discrimination
CLASS:PUBLIC
DESCRIPTION:Come see six groups of fourth-year CS and SE students who took 
 CS 497:\nCOMPUTING AND DISCRIMINATION — a unique course offered for the 
 first\ntime this Winter by Computer Science Professors Dan Brown and Maura
  R.\nGrossman — as they showcase their final projects.\n\nLearn more abo
 ut this course from its instructors.
DTSTAMP:20260423T200046Z
END:VEVENT
END:VCALENDAR