BEGIN:VCALENDAR
VERSION:2.0
PRODID:-//Drupal iCal API//EN
X-WR-CALNAME:Events items teaser
X-WR-TIMEZONE:America/Toronto
BEGIN:VTIMEZONE
TZID:America/Toronto
X-LIC-LOCATION:America/Toronto
BEGIN:DAYLIGHT
TZNAME:EDT
TZOFFSETFROM:-0500
TZOFFSETTO:-0400
DTSTART:20250309T070000
END:DAYLIGHT
BEGIN:DAYLIGHT
TZNAME:EDT
TZOFFSETFROM:-0500
TZOFFSETTO:-0400
DTSTART:20240310T070000
END:DAYLIGHT
BEGIN:DAYLIGHT
TZNAME:EDT
TZOFFSETFROM:-0500
TZOFFSETTO:-0400
DTSTART:20230312T070000
END:DAYLIGHT
BEGIN:DAYLIGHT
TZNAME:EDT
TZOFFSETFROM:-0500
TZOFFSETTO:-0400
DTSTART:20220313T070000
END:DAYLIGHT
BEGIN:DAYLIGHT
TZNAME:EDT
TZOFFSETFROM:-0500
TZOFFSETTO:-0400
DTSTART:20210314T070000
END:DAYLIGHT
BEGIN:STANDARD
TZNAME:EST
TZOFFSETFROM:-0400
TZOFFSETTO:-0500
DTSTART:20241103T060000
END:STANDARD
BEGIN:STANDARD
TZNAME:EST
TZOFFSETFROM:-0400
TZOFFSETTO:-0500
DTSTART:20231105T060000
END:STANDARD
BEGIN:STANDARD
TZNAME:EST
TZOFFSETFROM:-0400
TZOFFSETTO:-0500
DTSTART:20221106T060000
END:STANDARD
BEGIN:STANDARD
TZNAME:EST
TZOFFSETFROM:-0400
TZOFFSETTO:-0500
DTSTART:20211107T060000
END:STANDARD
BEGIN:STANDARD
TZNAME:EST
TZOFFSETFROM:-0400
TZOFFSETTO:-0500
DTSTART:20201101T060000
END:STANDARD
END:VTIMEZONE
BEGIN:VEVENT
UID:69e778c360065
DTSTART;TZID=America/Toronto:20250807T140000
SEQUENCE:0
TRANSP:TRANSPARENT
DTEND;TZID=America/Toronto:20250807T150000
URL:https://uwaterloo.ca/computer-science/events/masters-thesis-presentatio
 n-crysp-tracking-for-good-finding-behavioral-biometrics-on-web-using-stati
 c-taint-analysis
LOCATION:DC - William G. Davis Computer Research Centre 200 University Aven
 ue West Hybrid: DC 3317 | Online master’s thesis presentation Waterloo O
 N N2L 3G1 Canada
SUMMARY:Master’s Thesis Presentation • Cryptography\, Security\, and Pr
 ivacy\n(CrySP) • Tracking for Good: Finding Behavioral Biometrics on the
 \nWeb using Static Taint Analysis
CLASS:PUBLIC
DESCRIPTION:PLEASE NOTE: THIS MASTER’S THESIS PRESENTATION WILL TAKE PLAC
 E IN DC\n3317 AND ONLINE.\n\nASWAD TARIQ\, MASTER’S CANDIDATE\n_David R.
  Cheriton School of Computer Science_\n\nSUPERVISOR: Professor Urs Hengart
 ner
DTSTAMP:20260421T131651Z
END:VEVENT
BEGIN:VEVENT
UID:69e778c36134e
DTSTART;TZID=America/Toronto:20250113T090000
SEQUENCE:0
TRANSP:TRANSPARENT
DTEND;TZID=America/Toronto:20250113T120000
URL:https://uwaterloo.ca/computer-science/events/phd-defence-computational-
 neuroscience-symbols-dynamics-maps-neurosymbolic-approach-to-spatial-cogni
 tion
LOCATION:E7 - Engineering 7 200 University Ave West Hybrid: E7 2343 | Onlin
 e PhD defence Waterloo ON N2L 3G1 Canada
SUMMARY:PhD Defence • Computational Neuroscience • Symbols\, Dynamics\,
  and\nMaps: A Neurosymbolic Approach to Spatial Cognition
CLASS:PUBLIC
DESCRIPTION:PLEASE NOTE: THIS PHD DEFENCE WILL TAKE PLACE IN E7 2343 AND ON
 LINE.\n\nNICOLE SANDRA-YAFFA DUMONT\, PHD CANDIDATE\n_David R. Cheriton Sc
 hool of Computer Science_\n\nSUPERVISORS: Professors Chris Eliasmith\, Jef
 f Orchard
DTSTAMP:20260421T131651Z
END:VEVENT
BEGIN:VEVENT
UID:69e778c361eee
DTSTART;TZID=America/Toronto:20240808T090000
SEQUENCE:0
TRANSP:TRANSPARENT
DTEND;TZID=America/Toronto:20240808T100000
URL:https://uwaterloo.ca/computer-science/events/masters-research-paper-pre
 sentation-se-understanding-the-human-LLM-dynamic
LOCATION:DC - William G. Davis Computer Research Centre 200 University Aven
 ue West Online presentation Waterloo ON N2L 3G1 Canada
SUMMARY:Master’s Research Paper Presentation • Software Engineering •
 \nUnderstanding the Human-LLM Dynamic: A Literature Survey of LLM Use in\n
 Programming Tasks
CLASS:PUBLIC
DESCRIPTION:PLEASE NOTE: THIS PRESENTATION WILL TAKE PLACE ONLINE.\n\nDEB
 ORAH ETSENAKE\, MASTER’S CANDIDATE\n_David R. Cheriton School of Compute
 r Science_\n\nSUPERVISOR: Professor Mei Nagappan
DTSTAMP:20260421T131651Z
END:VEVENT
BEGIN:VEVENT
UID:69e778c362ac7
DTSTART;TZID=America/Toronto:20230411T083000
SEQUENCE:0
TRANSP:TRANSPARENT
DTEND;TZID=America/Toronto:20230411T173000
URL:https://uwaterloo.ca/computer-science/events/brain-day-2023
LOCATION:E7 - Engineering 7 200 University Ave West various rooms\, see abo
 ve Waterloo ON N2L 3G1 Canada
SUMMARY:Brain Day 2023 • Centre for Theoretical Neuroscience
CLASS:PUBLIC
DESCRIPTION:PLEASE NOTE: BRAIN DAY 2023 WILL TAKE PLACE IN ENGINEERING 7\, 
 VARIOUS\nROOMS.\n\n [image depicting Brain Day 2023]\n_The University of W
 aterloo’s Centre for Theoretical Neuroscience\nsupports the development 
 of robust explanatory theories of mind and\nbrain through education and re
 search._
DTSTAMP:20260421T131651Z
END:VEVENT
BEGIN:VEVENT
UID:69e778c3665f8
DTSTART;TZID=America/Toronto:20220615T140000
SEQUENCE:0
TRANSP:TRANSPARENT
DTEND;TZID=America/Toronto:20220615T153000
URL:https://uwaterloo.ca/computer-science/events/dls-tony-chan
LOCATION:DC - William G. Davis Computer Research Centre 200 University Aven
 ue West 1302 | Livestreamed on MS Teams Waterloo ON N2L 3G1 Canada
SUMMARY:DLS: Tony Chan — A Personal and Historical View of Computational\
 nMathematics
CLASS:PUBLIC
DESCRIPTION:PLEASE NOTE: THIS DLS PRESENTATION WILL BE GIVEN IN PERSON IN D
 C 1302\nAND LIVESTREAMED OVER MS TEAMS.\n\nTONY CHAN\n_President\, King Ab
 dullah University of Science and Technology (KAUST)\nProfessor\, Applied M
 athematics and Computational Science_\n\nIn its modern incarnation\, compu
 tational mathematics is a discipline\nthat blossomed only after WWII. But 
 even in its relatively brief\nhistory\, there have been some major shifts 
 in its methodology\,\nemphasis\, and applications.
DTSTAMP:20260421T131651Z
END:VEVENT
BEGIN:VEVENT
UID:69e778c366f3d
DTSTART;TZID=America/Toronto:20220429T120000
SEQUENCE:0
TRANSP:TRANSPARENT
DTEND;TZID=America/Toronto:20220429T120000
URL:https://uwaterloo.ca/computer-science/events/masters-thesis-presentatio
 n-se-jitgnn-a-deep-graph-neural-network-for-just-in-time-bug-prediction
LOCATION:200 University Avenue West Online master’s thesis presentation W
 aterloo ON N2L 3G1 Canada
SUMMARY:Master’s Thesis Presentation • Software Engineering • JITGNN:
  A\nDeep Graph Neural Network for Just-In-Time Bug Prediction
CLASS:PUBLIC
DESCRIPTION:PLEASE NOTE: THIS MASTER’S THESIS PRESENTATION WILL BE GIVEN 
 ONLINE.\n\nHOSSEIN KESHAVARZ\, MASTER’S CANDIDATE\n_David R. Cheriton Sc
 hool of Computer Science_\n\nSUPERVISOR: Professor Mei Nagappan
DTSTAMP:20260421T131651Z
END:VEVENT
BEGIN:VEVENT
UID:69e778c36776b
DTSTART;TZID=America/Toronto:20220215T133000
SEQUENCE:0
TRANSP:TRANSPARENT
DTEND;TZID=America/Toronto:20220215T143000
URL:https://uwaterloo.ca/computer-science/events/dls-milind-tambe-ai-for-so
 cial-impact
LOCATION:200 University Avenue West Online Distinguished Lecture Waterloo O
 N N2L 3G1 Canada
SUMMARY:DLS: Milind Tambe — AI for Social Impact: Results from Deployment
 s\nfor Public Health and Conservation
CLASS:PUBLIC
DESCRIPTION:MILIND TAMBE\n_Gordon McKay Professor of Computer Science\nDire
 ctor of the Center for Research in Computation and Society\,\nHarvard Univ
 ersity\nDirector\, AI for Social Good\, Google Research India_
DTSTAMP:20260421T131651Z
END:VEVENT
BEGIN:VEVENT
UID:69e778c367fb3
DTSTART;TZID=America/Toronto:20211007T123000
SEQUENCE:0
TRANSP:TRANSPARENT
DTEND;TZID=America/Toronto:20211007T123000
URL:https://uwaterloo.ca/computer-science/events/dls-raquel-urtasun
LOCATION:200 University Avenue West Online Distinguished Lecture Waterloo O
 N N2L 3G1 Canada
SUMMARY:Inaugural 2021–22 Distinguished Lecture Series Presentation • A
 n\nAI-first Approach to Self-driving
CLASS:PUBLIC
DESCRIPTION:RAQUEL URTASUN\n_Founder and CEO\, Waabi Innovation Inc.\nProfe
 ssor\, Department of Computer Science\, University of Toronto\nCo-founder\
 , Vector Institute for AI_
DTSTAMP:20260421T131651Z
END:VEVENT
BEGIN:VEVENT
UID:69e778c368946
DTSTART;TZID=America/Toronto:20210426T120000
SEQUENCE:0
TRANSP:TRANSPARENT
DTEND;TZID=America/Toronto:20210426T120000
URL:https://uwaterloo.ca/computer-science/events/wics-responding-to-everyda
 y-bias-how-to-recognize-it-and-interrupt-it
LOCATION:200 University Avenue West Online event Waterloo ON N2L 3G1 Canada
SUMMARY:Women in Computer Science • Responding to Everyday Bias: How to\n
 Recognize it and Interrupt it
CLASS:PUBLIC
DESCRIPTION:EVERYONE IS WELCOME TO ATTEND THIS FREE ONLINE EVENT.\n\nWe ha
 ve all been in conversations where a friend\, colleague or boss\nmakes an 
 off-handed or stereotypical comment. Such comments can be\nhurtful and mak
 e for a non-inclusive learning or working environment.\nWe might let the c
 omment slide because we want to move on and don’t\nwant to make the spea
 ker defensive. However\, by not speaking up\, we\nsilently convey that suc
 h comments are OK with us and we help to\nnormalize them.
DTSTAMP:20260421T131651Z
END:VEVENT
BEGIN:VEVENT
UID:69e778c36950b
DTSTART;TZID=America/Toronto:20201103T100000
SEQUENCE:0
TRANSP:TRANSPARENT
DTEND;TZID=America/Toronto:20201103T100000
URL:https://uwaterloo.ca/computer-science/events/seminar-systems-and-networ
 king-rational-contracts-data-driven-control-and-service-provisioning-in-bl
 ockchain-powered-systems
LOCATION:200 University Avenue West Online seminar Waterloo ON N2L 3G1 Cana
 da
SUMMARY:Seminar • Systems and Networking — Rational Contracts: Data-dri
 ven\nControl and Service Provisioning in Blockchain-powered Systems
CLASS:PUBLIC
DESCRIPTION:PLEASE NOTE: THIS SEMINAR WILL BE GIVEN ONLINE.\n\nAIMAN ERBAD\
 , COLLEGE OF SCIENCE AND ENGINEERING\n_Hamad Bin Khalifa University_\n\nT
 OPICS COVERED: Blockchain and machine learning
DTSTAMP:20260421T131651Z
END:VEVENT
END:VCALENDAR