BEGIN:VCALENDAR
VERSION:2.0
PRODID:-//Drupal iCal API//EN
X-WR-CALNAME:Events items teaser
X-WR-TIMEZONE:America/Toronto
BEGIN:VTIMEZONE
TZID:America/Toronto
X-LIC-LOCATION:America/Toronto
BEGIN:DAYLIGHT
TZNAME:EDT
TZOFFSETFROM:-0500
TZOFFSETTO:-0400
DTSTART:20170312T070000
END:DAYLIGHT
BEGIN:STANDARD
TZNAME:EST
TZOFFSETFROM:-0400
TZOFFSETTO:-0500
DTSTART:20171105T060000
END:STANDARD
END:VTIMEZONE
BEGIN:VEVENT
UID:69ddf09ea3d38
DTSTART;TZID=America/Toronto:20171222T000000
SEQUENCE:0
TRANSP:TRANSPARENT
DTEND;TZID=America/Toronto:20171222T000000
URL:https://uwaterloo.ca/computing-financial-management/events/unofficial-g
 rades-begin-appear-quest
SUMMARY:Unofficial Grades Begin to Appear in Quest
CLASS:PUBLIC
DESCRIPTION:Beginning this date\, registered students can view their unoffi
 cial\nterm grades in Quest [https://uwaterloo.ca/quest/].\n\nNote: not al
 l grades will appear.
DTSTAMP:20260414T074534Z
END:VEVENT
END:VCALENDAR