BEGIN:VCALENDAR
VERSION:2.0
PRODID:-//Drupal iCal API//EN
X-WR-CALNAME:Events items teaser
X-WR-TIMEZONE:America/Toronto
BEGIN:VTIMEZONE
TZID:America/Toronto
X-LIC-LOCATION:America/Toronto
BEGIN:DAYLIGHT
TZNAME:EDT
TZOFFSETFROM:-0500
TZOFFSETTO:-0400
DTSTART:20130310T070000
END:DAYLIGHT
BEGIN:STANDARD
TZNAME:EST
TZOFFSETFROM:-0400
TZOFFSETTO:-0500
DTSTART:20121104T060000
END:STANDARD
END:VTIMEZONE
BEGIN:VEVENT
UID:69e4704d481d1
DTSTART;TZID=America/Toronto:20130904T090000
SEQUENCE:0
TRANSP:TRANSPARENT
DTEND;TZID=America/Toronto:20130904T115000
URL:https://uwaterloo.ca/computing-financial-management/events/2013-school-
 accounting-and-finance-saf-welcome
SUMMARY:2013 School of Accounting and Finance (SAF) Welcome
CLASS:PUBLIC
DESCRIPTION:[SAF building]Learn more about the academic resources available
  to you\nat the SAF and meet some of your professors. You'll also get the
 \nopportunity to hear about leadership opportunities and clubs in the\nSAF
 .
DTSTAMP:20260419T060357Z
END:VEVENT
END:VCALENDAR