BEGIN:VCALENDAR
VERSION:2.0
PRODID:-//Drupal iCal API//EN
X-WR-CALNAME:Events items teaser
X-WR-TIMEZONE:America/Toronto
BEGIN:VTIMEZONE
TZID:America/Toronto
X-LIC-LOCATION:America/Toronto
BEGIN:DAYLIGHT
TZNAME:EDT
TZOFFSETFROM:-0500
TZOFFSETTO:-0400
DTSTART:20200308T070000
END:DAYLIGHT
BEGIN:DAYLIGHT
TZNAME:EDT
TZOFFSETFROM:-0500
TZOFFSETTO:-0400
DTSTART:20190310T070000
END:DAYLIGHT
BEGIN:STANDARD
TZNAME:EST
TZOFFSETFROM:-0400
TZOFFSETTO:-0500
DTSTART:20201101T060000
END:STANDARD
BEGIN:STANDARD
TZNAME:EST
TZOFFSETFROM:-0400
TZOFFSETTO:-0500
DTSTART:20191103T060000
END:STANDARD
END:VTIMEZONE
BEGIN:VEVENT
UID:69ddedc32fad9
DTSTART;TZID=America/Toronto:20201201T130000
SEQUENCE:0
TRANSP:TRANSPARENT
DTEND;TZID=America/Toronto:20201201T150000
URL:https://uwaterloo.ca/computing-financial-management/events/end-term-soc
 ial-escape-quarantine
SUMMARY:End-of-Term Social: Escape from Quarantine
CLASS:PUBLIC
DTSTAMP:20260414T073323Z
END:VEVENT
BEGIN:VEVENT
UID:69ddedc331d29
DTSTART;TZID=America/Toronto:20201114T000000
SEQUENCE:0
TRANSP:TRANSPARENT
DTEND;TZID=America/Toronto:20201114T000000
URL:https://uwaterloo.ca/computing-financial-management/events/co-op-prep-s
 ession-1-ampm-sessions-available
SUMMARY:Co-op Prep Session #1 (a.m./p.m. sessions available)
CLASS:PUBLIC
DESCRIPTION:The CFM program is hosting an introductory Co-op Prep Session f
 or\nfirst year students. This information session will cover all general\n
 co-op information including\, co-op schedule\, interview process\, resume\
 ntips\, taking professional headshots\, creating an effective LinkedIn\npr
 ofile\, and starting a GitHub account.\n\nStudents have the option to atte
 nd either one of sessions listed\nbelow:\n\nCO-OP PREP SESSION #1 (MORNING
  SESSION): Saturday November 14 from\n8:00 a.m. - 9:30 a.m. (EST)
DTSTAMP:20260414T073323Z
END:VEVENT
BEGIN:VEVENT
UID:69ddedc332d34
DTSTART;TZID=America/Toronto:20201020T000000
SEQUENCE:0
TRANSP:TRANSPARENT
DTEND;TZID=America/Toronto:20201110T000000
URL:https://uwaterloo.ca/computing-financial-management/events/co-op-essent
 ials-workshop-1-4
SUMMARY:Co-op Essentials Workshop #1 - 4
CLASS:PUBLIC
DESCRIPTION:Learn about the co-op process by attending one or more of the\n
 following information sessions:
DTSTAMP:20260414T073323Z
END:VEVENT
BEGIN:VEVENT
UID:69ddedc33388f
DTSTART;TZID=America/Toronto:20201104T083000
SEQUENCE:0
TRANSP:TRANSPARENT
DTEND;TZID=America/Toronto:20201104T163000
URL:https://uwaterloo.ca/computing-financial-management/events/midterm-stud
 y-break-game-night-see-times-below
SUMMARY:Midterm Study Break - Game Night (see times below)
CLASS:PUBLIC
DESCRIPTION:[Press Start Image]\n\nTake a break from your studies and join 
 your classmates at the Midterm\nStudy Break.
DTSTAMP:20260414T073323Z
END:VEVENT
BEGIN:VEVENT
UID:69ddedc334209
DTSTART;TZID=America/Toronto:20200922T200000
SEQUENCE:0
TRANSP:TRANSPARENT
DTEND;TZID=America/Toronto:20200922T210000
URL:https://uwaterloo.ca/computing-financial-management/events/women-math-v
 irtual-welcome-event-session-2
SUMMARY:Women in Math Virtual Welcome Event (session 2)
CLASS:PUBLIC
DESCRIPTION:[Women in Math logo]\n\nIf you are a female/female-identifying 
 first year student in the\nFaculty of Mathematics\, WiM (Women in Mathemat
 ics) invites you to\ntheir virtual Welcome Event.\n\nJoin your fellow fema
 le classmates and upper years in this social\nevent. Hear messages from th
 e Dean of Math\, Chair of WiM\, Director of\nWiCS (Women in Computer Scien
 ce)\, and more!
DTSTAMP:20260414T073323Z
END:VEVENT
BEGIN:VEVENT
UID:69ddedc334b40
DTSTART;TZID=America/Toronto:20200922T120000
SEQUENCE:0
TRANSP:TRANSPARENT
DTEND;TZID=America/Toronto:20200922T130000
URL:https://uwaterloo.ca/computing-financial-management/events/women-math-v
 irtual-welcome-event-session-1
SUMMARY:Women in Math Virtual Welcome Event (session 1)
CLASS:PUBLIC
DESCRIPTION:[Women in Math logo]\n\nIf you are a female/female-identifying 
 first year student in the\nFaculty of Mathematics\, WiM (Women in Mathemat
 ics) invites you to\ntheir virtual Welcome Event.\n\nJoin your fellow fema
 le classmates and upper years in this social\nevent. Hear messages from th
 e Dean of Math\, Chair of WiM\, Director of\nWiCS (Women in Computer Scien
 ce)\, and more!
DTSTAMP:20260414T073323Z
END:VEVENT
BEGIN:VEVENT
UID:69ddedc335461
DTSTART;TZID=America/Toronto:20200915T100000
SEQUENCE:0
TRANSP:TRANSPARENT
DTEND;TZID=America/Toronto:20200915T123000
URL:https://uwaterloo.ca/computing-financial-management/events/cfm-fall-wel
 come-1
SUMMARY:CFM Fall Welcome
CLASS:PUBLIC
DESCRIPTION:Join your fellow CFM Students as we kick off the start of the F
 all\n2020 term!
DTSTAMP:20260414T073323Z
END:VEVENT
BEGIN:VEVENT
UID:69ddedc335d61
DTSTART;TZID=America/Toronto:20200521T100000
SEQUENCE:0
TRANSP:TRANSPARENT
DTEND;TZID=America/Toronto:20200521T110000
URL:https://uwaterloo.ca/computing-financial-management/events/alumni-caree
 r-spotlight
LOCATION:Microsoft Teams
SUMMARY:Alumni Career Spotlight
CLASS:PUBLIC
DESCRIPTION:[Photo of Derek Shaw]Derek Shaw (BSE '10) is the featured alumn
 us for\nour first Alumni Career Spotlight. He will share his career story
 \,\nfrom student at the University of Waterloo to full-time worker\, in\n
 his current role as Senior Developer at Maplesoft\n[https://www.maplesoft.
 com/]. 
DTSTAMP:20260414T073323Z
END:VEVENT
BEGIN:VEVENT
UID:69ddedc337292
DTSTART;TZID=America/Toronto:20200303T173000
SEQUENCE:0
TRANSP:TRANSPARENT
DTEND;TZID=America/Toronto:20200303T193000
URL:https://uwaterloo.ca/computing-financial-management/events/midterm-soci
 al-dinner-movie-night
LOCATION:DC 1301 (Fishbowl) 200 University Avenue West Waterloo ON N2L 3G1 
 Canada
SUMMARY:Midterm Social: Dinner &amp; Movie Night
CLASS:PUBLIC
DESCRIPTION:[Dinner and a Movie poster with spilled popcorn]\n\nGet ready t
 o relax! At this de-stress event\, you and your friends can\ntake a break 
 from studying and enjoy some delicious food from Taco\nFarm\, watch a movi
 e and munch on some movie-perfect snacks. Also\, you\nhave the opportunity
  to build your own self-care/de-stress goody bag\non your way out!
DTSTAMP:20260414T073323Z
END:VEVENT
BEGIN:VEVENT
UID:69ddedc33812f
DTSTART;TZID=America/Toronto:20200212T110000
SEQUENCE:0
TRANSP:TRANSPARENT
DTEND;TZID=America/Toronto:20200212T140000
URL:https://uwaterloo.ca/computing-financial-management/events/arts-midterm
 -stress-0
LOCATION:HH - J.G. Hagey Hall of the Humanities 200 University Avenue West 
 Waterloo ON N2L 3G1 Canada
SUMMARY:Arts Midterm De-Stress
CLASS:PUBLIC
DESCRIPTION:The Arts Undergraduate Office is hosting this de-stress event t
 o all\nArts students. Students can enjoy free pizza\, make candy grams\, a
 nd\ndecorate cookies!\n\nAll Arts students are welcome to attend. Just rem
 ember to bring your\nWATcard!
DTSTAMP:20260414T073323Z
END:VEVENT
END:VCALENDAR