BEGIN:VCALENDAR
VERSION:2.0
PRODID:-//Drupal iCal API//EN
X-WR-CALNAME:Events items teaser
X-WR-TIMEZONE:America/Toronto
BEGIN:VTIMEZONE
TZID:America/Toronto
X-LIC-LOCATION:America/Toronto
BEGIN:DAYLIGHT
TZNAME:EDT
TZOFFSETFROM:-0500
TZOFFSETTO:-0400
DTSTART:20200308T070000
END:DAYLIGHT
BEGIN:DAYLIGHT
TZNAME:EDT
TZOFFSETFROM:-0500
TZOFFSETTO:-0400
DTSTART:20190310T070000
END:DAYLIGHT
BEGIN:DAYLIGHT
TZNAME:EDT
TZOFFSETFROM:-0500
TZOFFSETTO:-0400
DTSTART:20180311T070000
END:DAYLIGHT
BEGIN:DAYLIGHT
TZNAME:EDT
TZOFFSETFROM:-0500
TZOFFSETTO:-0400
DTSTART:20170312T070000
END:DAYLIGHT
BEGIN:STANDARD
TZNAME:EST
TZOFFSETFROM:-0400
TZOFFSETTO:-0500
DTSTART:20201101T060000
END:STANDARD
BEGIN:STANDARD
TZNAME:EST
TZOFFSETFROM:-0400
TZOFFSETTO:-0500
DTSTART:20191103T060000
END:STANDARD
BEGIN:STANDARD
TZNAME:EST
TZOFFSETFROM:-0400
TZOFFSETTO:-0500
DTSTART:20181104T060000
END:STANDARD
BEGIN:STANDARD
TZNAME:EST
TZOFFSETFROM:-0400
TZOFFSETTO:-0500
DTSTART:20171105T060000
END:STANDARD
END:VTIMEZONE
BEGIN:VEVENT
UID:69ddedbdbcc32
DTSTART;TZID=America/Toronto:20201107T080000
SEQUENCE:0
TRANSP:TRANSPARENT
DTEND;TZID=America/Toronto:20201107T160000
URL:https://uwaterloo.ca/computing-financial-management/events/waterloo-vir
 tual-open-house
SUMMARY:Waterloo Virtual Open House
CLASS:PUBLIC
DESCRIPTION:Join us at the Waterloo Virtual Open House to learn more about 
 the\nComputing and Financial Management (CFM) program! Find out important\
 ninformation about admissions\, financing your education\, co-op\, student
 \nsupports\, and more!
DTSTAMP:20260414T073317Z
END:VEVENT
BEGIN:VEVENT
UID:69ddedbdbda38
DTSTART;TZID=America/Toronto:20201003T080000
SEQUENCE:0
TRANSP:TRANSPARENT
DTEND;TZID=America/Toronto:20201003T160000
URL:https://uwaterloo.ca/computing-financial-management/events/waterloo-vir
 tual-fair
SUMMARY:Waterloo Virtual Fair
CLASS:PUBLIC
DESCRIPTION:Join us at the Waterloo Virtual Fair to learn more about the Co
 mputing\nand Financial Management (CFM) program including admissions\, co-
 op\,\ncareers\, tuition\, student supports\, and more!\n\n* Find informati
 on on our program\n[https://uwaterloo.ca/computing-financial-management/fu
 ture-students]\n * Check out presentations throughout the day\n * Chat wit
 h faculty\, staff and students\n * Get answers to your questions!\n\nRegis
 tration [https://www.accelevents.com/e/WaterlooVirtualFair] is\nnow open.
DTSTAMP:20260414T073317Z
END:VEVENT
BEGIN:VEVENT
UID:69ddedbdbe40a
DTSTART;TZID=America/Toronto:20200220T180000
SEQUENCE:0
TRANSP:TRANSPARENT
DTEND;TZID=America/Toronto:20200220T203000
URL:https://uwaterloo.ca/computing-financial-management/events/grade-10-fam
 ily-night-2
LOCATION:Hagey Hub and Humanities Theatre 200 University Ave W Waterloo ON 
 N2L 3G1 Canada
SUMMARY:Grade 10 Family Night
CLASS:PUBLIC
DESCRIPTION:If you're in Grade 10 and planning to attend university\, you a
 nd your\nparents are invited to learn what you can do now to prepare. We 
 will\nhave representatives from the Faculty of Mathematics to answer your\
 nquestions about the Computing and Financial Management program.\n\nThursd
 ay\, February 20\, 2020\nHagey Hub and Humanities Theatre
DTSTAMP:20260414T073317Z
END:VEVENT
BEGIN:VEVENT
UID:69ddedbdbf0e8
DTSTART;TZID=America/Toronto:20190309T100000
SEQUENCE:0
TRANSP:TRANSPARENT
DTEND;TZID=America/Toronto:20190309T100000
URL:https://uwaterloo.ca/computing-financial-management/events/march-break-
 open-house-2019
SUMMARY:March Break Open House 2019
CLASS:PUBLIC
DESCRIPTION:Saturday\, March 9\n10 a.m. to 4 p.m.\nJoin us for part of the
  open house or make a day of it!\n\nHIGHLIGHTS\n\n* Attend information se
 ssions for Computing and Financial Management\nprogram.\n * Chat with prof
 essors and students.\n * Take a campus tour and visit our residences.\n * 
 Learn about co-op\, financing your education\, and residence life.\n * Ge
 t answers to all your questions about studying and living at\nWaterloo.
DTSTAMP:20260414T073317Z
END:VEVENT
BEGIN:VEVENT
UID:69ddedbdbfb68
DTSTART;TZID=America/Toronto:20190221T180000
SEQUENCE:0
TRANSP:TRANSPARENT
DTEND;TZID=America/Toronto:20190221T180000
URL:https://uwaterloo.ca/computing-financial-management/events/grade-10-fam
 ily-night-2019
LOCATION:HH - J.G. Hagey Hall of the Humanities 200 University Avenue West 
 Waterloo ON N2L 3G1 Canada
SUMMARY:Grade 10 Family Night 2019
CLASS:PUBLIC
DESCRIPTION:CHECK OUT GRADE 10 FAMILY NIGHT\n\nParents and students welcome
 ​\n\nLEARN ABOUT\n\n* applying to university\n * studying what you love 
  \n * financing your education\n * tips from current Waterloo students
DTSTAMP:20260414T073317Z
END:VEVENT
BEGIN:VEVENT
UID:69ddedbdc0787
DTSTART;TZID=America/Toronto:20181026T000000
SEQUENCE:0
TRANSP:TRANSPARENT
DTEND;TZID=America/Toronto:20181027T000000
URL:https://uwaterloo.ca/computing-financial-management/events/fall-2018-co
 nvocation
LOCATION:PAC - Physical Activities Complex 200 University Avenue West Water
 loo ON N2L 3G1 Canada
SUMMARY:Fall 2018 Convocation
CLASS:PUBLIC
DESCRIPTION:Convocation is a special time to celebrate. We look forward to
  seeing\nyou at an upcoming ceremony!\n\nUniversity of Waterloo hosts two 
 convocations per year (spring and\nfall)\, in the Physical Activities Com
 plex (PAC)\n[https://uwaterloo.ca/convocation/venue] on campus. Computing
  and\nFinancial Management alternates with the Faculty of Arts every other
 \nyear\, graduating with the Faculty of Mathematics in 2018 and with the\n
 Faculty of Arts in 2019. 
DTSTAMP:20260414T073317Z
END:VEVENT
BEGIN:VEVENT
UID:69ddedbdc1407
DTSTART;TZID=Africa/Abidjan:20180719T000000
SEQUENCE:0
TRANSP:TRANSPARENT
DTEND;TZID=Africa/Abidjan:20180719T000000
URL:https://uwaterloo.ca/computing-financial-management/events/math-101-day
LOCATION:University of Waterloo 200 University Avenue West Waterloo ON N2L 
 3G1 Canada
SUMMARY:Math 101 Day
CLASS:PUBLIC
DESCRIPTION:Join us on Thursday\, July 19\, 2018  for MATH 101 DAY**. Th
 e\nevent is for all incoming Faculty of Mathematics\nundergraduate stude
 nts and their family members. Designed with you\nin mind\, it’s a day f
 illed with experiences to help you and your\nfamily successfully make the 
 transition from high school to first-year\nat Waterloo. Registration opens
  June 1\, 2018.\n\nDuring Math 101 Day\, you'll: 
DTSTAMP:20260414T073317Z
END:VEVENT
BEGIN:VEVENT
UID:69ddedbdc1d77
DTSTART;TZID=America/Toronto:20180310T100000
SEQUENCE:0
TRANSP:TRANSPARENT
DTEND;TZID=America/Toronto:20180310T160000
URL:https://uwaterloo.ca/computing-financial-management/events/march-break-
 open-house-2018
SUMMARY:March Break Open House 2018
CLASS:PUBLIC
DESCRIPTION:HIGHLIGHTS\n\n* Attend information sessions for your program o
 r faculty of\ninterest.\n * Chat with professors and students.\n * Take a 
 campus tour and visit our residences.\n * Learn about co-op\, financing y
 our education\, and residence life.\n * Get answers to all your questions
  about studying and living at\nWaterloo.\n\nRegister now!
DTSTAMP:20260414T073317Z
END:VEVENT
BEGIN:VEVENT
UID:69ddedbdc26e8
DTSTART;TZID=America/Toronto:20180222T183000
SEQUENCE:0
TRANSP:TRANSPARENT
DTEND;TZID=America/Toronto:20180222T203000
URL:https://uwaterloo.ca/computing-financial-management/events/grade-10-fam
 ily-night-2018
SUMMARY:Grade 10 Family Night 2018
CLASS:PUBLIC
DESCRIPTION:If you're in Grade 10 and planning to attend university\, you a
 nd your\nparents are invited to learn what you can do now to prepare.\n\nF
 ebruary 22\, 2018\n6:30 - 8:30 pm\nUniversity of Waterloo campus\nA LIVE
  WEBCAST will be available\n\nLearn about finding the right program and 
 university\, applying to\nuniversity\, and financing an university educa
 tion. A question and\nanswer period will follow.\n\nRegister now!
DTSTAMP:20260414T073317Z
END:VEVENT
BEGIN:VEVENT
UID:69ddedbdc3107
DTSTART;TZID=America/Toronto:20180207T191500
SEQUENCE:0
TRANSP:TRANSPARENT
DTEND;TZID=America/Toronto:20180207T191500
URL:https://uwaterloo.ca/computing-financial-management/events/battle-water
 loo-aud
SUMMARY:Battle of Waterloo at the Aud
CLASS:PUBLIC
DESCRIPTION:The BATTLE OF WATERLOO AT THE KITCHENER AUDITORIUM features\n
 cross-town rivals Waterloo Warriors and Laurier Golden Hawks\non WEDNESDA
 Y\, FEBRUARY 7 AT 7:15PM.  \n\nOUA hockey is the best kept secret in the 
 country and features former\nmajor junior hockey players.  GET YOUR TICK
 ETS NOW to see which\nschool owns University Avenue.
DTSTAMP:20260414T073317Z
END:VEVENT
END:VCALENDAR