BEGIN:VCALENDAR
VERSION:2.0
PRODID:-//Drupal iCal API//EN
X-WR-CALNAME:Events items teaser
X-WR-TIMEZONE:America/Toronto
BEGIN:VTIMEZONE
TZID:America/Toronto
X-LIC-LOCATION:America/Toronto
BEGIN:DAYLIGHT
TZNAME:EDT
TZOFFSETFROM:-0500
TZOFFSETTO:-0400
DTSTART:20190310T070000
END:DAYLIGHT
BEGIN:STANDARD
TZNAME:EST
TZOFFSETFROM:-0400
TZOFFSETTO:-0500
DTSTART:20181104T060000
END:STANDARD
END:VTIMEZONE
BEGIN:VEVENT
UID:69ddeda72deb5
DTSTART;TZID=America/Toronto:20191026T100000
SEQUENCE:0
TRANSP:TRANSPARENT
DTEND;TZID=America/Toronto:20191026T100000
URL:https://uwaterloo.ca/computing-financial-management/events/fall-2019-co
 nvocation
LOCATION:PAC - Physical Activities Complex 200 University Avenue West Water
 loo ON N2L 3G1 Canada
SUMMARY:Fall 2019 Convocation
CLASS:PUBLIC
DESCRIPTION:COMPUTING AND FINANCIAL MANAGEMENT CONVOCATION \n\nUNDERGRADU
 ATE DEGREE\n\n* Bachelor of Computing and Financial Management (BCFM) \n\n
 * NOTE: Computing and Financial Management alternates with the\nFaculty o
 f Arts every other year\, graduating with the Faculty of Arts\nin 2019 and
  with the Faculty of Mathe
DTSTAMP:20260414T073255Z
END:VEVENT
BEGIN:VEVENT
UID:69ddeda733575
DTSTART;TZID=America/Toronto:20190914T100000
SEQUENCE:0
TRANSP:TRANSPARENT
DTEND;TZID=America/Toronto:20190921T153000
URL:https://uwaterloo.ca/computing-financial-management/events/seminar-seri
 es-data-driven-equity-investment-strategies
LOCATION:Davis Centre (DC) 200 University Avenue West 2585 Waterloo N2L 3G1
  Canada
SUMMARY:Seminar Series \"Data Driven Equity Investment Strategies\"
CLASS:PUBLIC
DESCRIPTION:CFM is excited to offer this two-part seminar series\, led by M
 aster of\nQuantitative Finance alumnus Lei Wan (MQF\, ’12). Lei works a
 s a\nQuantitative Researcher and Option Trader for AGFiQ Asset Management\
 nand is excited to share his program and work experience as part of his\nl
 ectures. Lectures will cover four topic areas for four hours over two\ncon
 secutive Saturdays. 
DTSTAMP:20260414T073255Z
END:VEVENT
BEGIN:VEVENT
UID:69ddeda734a33
DTSTART;TZID=America/Toronto:20190314T140000
SEQUENCE:0
TRANSP:TRANSPARENT
DTEND;TZID=America/Toronto:20190314T140000
URL:https://uwaterloo.ca/computing-financial-management/events/pi-day-0
LOCATION:Mathematics and Computer 200 University Ave W 3rd Floor Waterloo O
 N N2L 3G1 Canada
SUMMARY:Pi Day
CLASS:PUBLIC
DESCRIPTION:Please join MathSoc\, the student government for Math Faculty s
 tudents\nat the University of Waterloo\, for a piece of pie tomorrow (Mar
 ch\n14th) at 2:00 pm! This event is open to all and will be taking place\n
 at MC 3rd floor. 
DTSTAMP:20260414T073255Z
END:VEVENT
BEGIN:VEVENT
UID:69ddeda735902
DTSTART;TZID=America/Toronto:20190213T140000
SEQUENCE:0
TRANSP:TRANSPARENT
DTEND;TZID=America/Toronto:20190213T160000
URL:https://uwaterloo.ca/computing-financial-management/events/cfm-midterm-
 study-break
LOCATION:DC - William G. Davis Computer Research Centre 200 University Aven
 ue West 3101 Waterloo ON N2L 3G1 Canada
SUMMARY:CFM Midterm Study Break
CLASS:PUBLIC
DESCRIPTION:Tired of long hours of sitting and studying? Take a break from 
 midterm\nstudying and relieve some stress with us. Snacks\, board games\, 
 and\nactivities abound. All free\, all meant to help you get through your\
 nmidterms.\n\nWanna continue the fun outdoors? Come join us at V1 Green fo
 r an epic\nsnowball fight at 4:30 pm. Bring your warm winter clothing if y
 ou want\nto participate. \n 
DTSTAMP:20260414T073255Z
END:VEVENT
BEGIN:VEVENT
UID:69ddeda73674a
DTSTART;TZID=America/Toronto:20190208T110000
SEQUENCE:0
TRANSP:TRANSPARENT
DTEND;TZID=America/Toronto:20190208T110000
URL:https://uwaterloo.ca/computing-financial-management/events/stress-event
LOCATION:MUO - Math Undergraduate Office 200 University Avenue West MC 4022
  Waterloo ON N2L 3G1 Canada
SUMMARY:De-stress Event
CLASS:PUBLIC
DESCRIPTION:The Math Undergraduate Office is partnering with MathSoc to off
 er a\nDe-stress event for students on Friday\, February 8th (tomorrow). 
  \n\nThere will be pastries\, cookies\, cupcakes and hot chocolate served
  in\nthe Math Undergraduate Office (MUO) starting at 11:00 am. \n\nCome j
 oin us to de-stress with your fellow students\, share in on some\nfun\, la
 ughter\, and food! \n\nSee you all there! 
DTSTAMP:20260414T073255Z
END:VEVENT
BEGIN:VEVENT
UID:69ddeda737557
DTSTART;TZID=America/Toronto:20190309T100000
SEQUENCE:0
TRANSP:TRANSPARENT
DTEND;TZID=America/Toronto:20190309T153000
URL:https://uwaterloo.ca/computing-financial-management/events/seminar-seri
 es-data-driven-equity-investments
LOCATION:DC - William G. Davis Computer Research Centre 200 University Aven
 ue West 2585 Waterloo ON N2L 3G1 Canada
SUMMARY:SEMINAR SERIES: “DATA DRIVEN EQUITY INVESTMENTS”
CLASS:PUBLIC
DTSTAMP:20260414T073255Z
END:VEVENT
BEGIN:VEVENT
UID:69ddeda738222
DTSTART;TZID=America/Toronto:20181203T183000
SEQUENCE:0
TRANSP:TRANSPARENT
DTEND;TZID=America/Toronto:20181203T213000
URL:https://uwaterloo.ca/computing-financial-management/events/newtonian-sh
 ift-energy-transition-game-uwaterloo
LOCATION:EV3 - Environment 3 200 University Avenue West Room 4412 Waterloo 
 ON N2L 3G1 Canada
SUMMARY:Newtonian Shift - Energy Transition Game @ UWaterloo
CLASS:PUBLIC
DESCRIPTION:\"The Newtonian Shiftis a facilitated role-playing simulation t
 hat\nallows players to experience decades of energy transition in one day.
 \nIt features dynamic and fast-paced experiential learning that puts\npart
 icipants in a diverse set of roles: energy producer\, private\ncustomer\, 
 large energy consumer\, First Nations\, suppliers\, grid\noperator\, inves
 tors\, and government.” 
DTSTAMP:20260414T073255Z
END:VEVENT
BEGIN:VEVENT
UID:69ddeda738f3f
DTSTART;TZID=America/Toronto:20181121T103000
SEQUENCE:0
TRANSP:TRANSPARENT
DTEND;TZID=America/Toronto:20181121T103000
URL:https://uwaterloo.ca/computing-financial-management/events/presidents-t
 own-hall-meeting
LOCATION:FED - Federation Hall 200 University Avenue West Waterloo ON N2L 3
 G1 Canada
SUMMARY:President's Town Hall Meeting
CLASS:PUBLIC
DESCRIPTION:Every year\, members of the University of Waterloo community ge
 t\ntogether for the President's Town Hall.\n\nIt's our campus community's 
 signature\, once-a-year opportunity to take\na step back and look at the b
 ig picture\, while engaging\nPresident Hamdullahpur and other senior adm
 inistrators in a Q&amp;A\nabout the issues that matter to you.\n\nThis year's 
 President's Town Hall will be held on Wednesday\, November\n21 at 10:30 a.
 m. in Fed Hall. You can register to attend the event in\nperson or via. li
 vestream.
DTSTAMP:20260414T073255Z
END:VEVENT
BEGIN:VEVENT
UID:69ddeda739ca9
DTSTART;TZID=America/Toronto:20181119T173000
SEQUENCE:0
TRANSP:TRANSPARENT
DTEND;TZID=America/Toronto:20181119T173000
URL:https://uwaterloo.ca/computing-financial-management/events/meet-author
SUMMARY:Meet the Author!
CLASS:PUBLIC
DESCRIPTION:School of Accounting and Finance has invited alumnus José Her
 nandez\nCPA PhD\, to speak on his new book _Broken Business: Seven Steps t
 o\nReform Good Companies Gone Bad_ [https://www.brokenbiz.com/]_.\n _Jos
 é’s book provides his insights and advice based on academic\nresearch a
 nd years of experience working with global companies facing\ncrisis of the
 ir own making. His practice primarily focuses on\nsupporting global corpor
 ations facing high-profile and complex white\ncollar and regulatory matter
 s. 
DTSTAMP:20260414T073255Z
END:VEVENT
BEGIN:VEVENT
UID:69ddeda73a751
DTSTART;TZID=America/Toronto:20181130T180000
SEQUENCE:0
TRANSP:TRANSPARENT
DTEND;TZID=America/Toronto:20181130T220000
URL:https://uwaterloo.ca/computing-financial-management/events/math-open-mi
 c-event
LOCATION:TBD Canada
SUMMARY:Math Open Mic Event
CLASS:PUBLIC
DESCRIPTION:The Math Undergrad Office is hosting Student De-Stress Event th
 at will\ninclude an Open Mic Event. Come out and see your math professors 
 and\nsupport staff regale you in entertainment.
DTSTAMP:20260414T073255Z
END:VEVENT
END:VCALENDAR