BEGIN:VCALENDAR
VERSION:2.0
PRODID:-//Drupal iCal API//EN
X-WR-CALNAME:Events items teaser
X-WR-TIMEZONE:America/Toronto
BEGIN:VTIMEZONE
TZID:America/Toronto
X-LIC-LOCATION:America/Toronto
BEGIN:DAYLIGHT
TZNAME:EDT
TZOFFSETFROM:-0500
TZOFFSETTO:-0400
DTSTART:20230312T070000
END:DAYLIGHT
BEGIN:STANDARD
TZNAME:EST
TZOFFSETFROM:-0400
TZOFFSETTO:-0500
DTSTART:20231105T060000
END:STANDARD
END:VTIMEZONE
BEGIN:VEVENT
UID:69ed5f0bbe665
DTSTART;TZID=America/Toronto:20231213T090000
SEQUENCE:0
TRANSP:TRANSPARENT
DTEND;TZID=America/Toronto:20231213T093000
URL:https://uwaterloo.ca/conrad-school-entrepreneurship-business/events/mbe
 t-experience-3
SUMMARY:MBET Experience
CLASS:PUBLIC
DESCRIPTION:What makes the Master of Business\, Entrepreneurship and Techno
 logy\n(MBET) program different? What do MBET students do during and outsid
 e\nclass? Hear student and alumni stories\, and discover why Waterloo is\n
 the place for entrepreneurs to grow.
DTSTAMP:20260426T004043Z
END:VEVENT
END:VCALENDAR