BEGIN:VCALENDAR
VERSION:2.0
PRODID:-//Drupal iCal API//EN
X-WR-CALNAME:Events items teaser
X-WR-TIMEZONE:America/Toronto
BEGIN:VTIMEZONE
TZID:America/Toronto
X-LIC-LOCATION:America/Toronto
BEGIN:DAYLIGHT
TZNAME:EDT
TZOFFSETFROM:-0500
TZOFFSETTO:-0400
DTSTART:20240310T070000
END:DAYLIGHT
BEGIN:STANDARD
TZNAME:EST
TZOFFSETFROM:-0400
TZOFFSETTO:-0500
DTSTART:20231105T060000
END:STANDARD
END:VTIMEZONE
BEGIN:VEVENT
UID:69eae184e3a0c
DTSTART;TZID=America/Toronto:20240311T120000
SEQUENCE:0
TRANSP:TRANSPARENT
DTEND;TZID=America/Toronto:20240311T123000
URL:https://uwaterloo.ca/conrad-school-entrepreneurship-business/events/mbe
 t-experience-4
SUMMARY:MBET Experience
CLASS:PUBLIC
DESCRIPTION:What makes the Master of Business\, Entrepreneurship and Techno
 logy\n(MBET) program different? What do MBET students do during and outsid
 e\nclass? Hear student and alumni stories\, and discover why Waterloo is\n
 the place for entrepreneurs to grow.
DTSTAMP:20260424T032036Z
END:VEVENT
END:VCALENDAR