BEGIN:VCALENDAR
VERSION:2.0
PRODID:-//Drupal iCal API//EN
X-WR-CALNAME:Events items teaser
X-WR-TIMEZONE:America/Toronto
BEGIN:VTIMEZONE
TZID:America/Toronto
X-LIC-LOCATION:America/Toronto
BEGIN:DAYLIGHT
TZNAME:EDT
TZOFFSETFROM:-0500
TZOFFSETTO:-0400
DTSTART:20260308T070000
END:DAYLIGHT
BEGIN:DAYLIGHT
TZNAME:EDT
TZOFFSETFROM:-0500
TZOFFSETTO:-0400
DTSTART:20250309T070000
END:DAYLIGHT
BEGIN:STANDARD
TZNAME:EST
TZOFFSETFROM:-0400
TZOFFSETTO:-0500
DTSTART:20251102T060000
END:STANDARD
BEGIN:STANDARD
TZNAME:EST
TZOFFSETFROM:-0400
TZOFFSETTO:-0500
DTSTART:20241103T060000
END:STANDARD
END:VTIMEZONE
BEGIN:VEVENT
UID:69e9a8ca3148d
DTSTART;TZID=America/Toronto:20260421T113000
SEQUENCE:0
TRANSP:TRANSPARENT
DTEND;TZID=America/Toronto:20260421T133000
URL:https://uwaterloo.ca/conrad-school-entrepreneurship-business/events/mbe
 t-information-meetup
LOCATION:Conrad School of Entrepreneurship and Business 200 University Ave 
 West Conrad School PSE/E7\, 2nd Floor\, HUB 2357 Waterloo ON N2L 3G1 Canad
 a
SUMMARY:MBET Information Meetup
CLASS:PUBLIC
DESCRIPTION:Join us in person on Apirl 21 to explore the Master of Busines
 s\,\nEntrepreneurship and Technology (MBET) program at the Conrad School\
 nof Entrepreneurship and Business. \nDesigned for those who want more than
  a traditional business degree\,\nMBET prepares you to build ventures\, l
 ead product initiatives\, and\ndrive meaningful transformation inside org
 anizations.
DTSTAMP:20260423T050618Z
END:VEVENT
BEGIN:VEVENT
UID:69e9a8ca36166
DTSTART;TZID=America/Toronto:20260327T120000
SEQUENCE:0
TRANSP:TRANSPARENT
DTEND;TZID=America/Toronto:20260327T140000
URL:https://uwaterloo.ca/conrad-school-entrepreneurship-business/events/qua
 ntum-valley-investmentsr-problem-pitch-winter-2026
LOCATION:University of Waterloo 200 University Ave West Conrad School PSE/E
 7\, 2nd Floor\, HUB 2357 Waterloo ON N2L 3G1 Canada
SUMMARY:The Quantum Valley Investments® Problem Pitch Winter 2026 Competit
 ion\nFinals
CLASS:PUBLIC
DESCRIPTION:The Quantum Valley Investments® Problem Pitch competitions ch
 allenge\nstudents to research an important problem and pitch their researc
 h to\na panel of judges. Funding of $7\,500 is awarded to support the\nst
 udent team that demonstrates the most thorough understanding of\ntheir ch
 osen problem to develop a solution. This semester\, the theme\nof the com
 petition is Global Futures.
DTSTAMP:20260423T050618Z
END:VEVENT
BEGIN:VEVENT
UID:69e9a8ca3700c
DTSTART;TZID=America/Toronto:20260318T173000
SEQUENCE:0
TRANSP:TRANSPARENT
DTEND;TZID=America/Toronto:20260318T193000
URL:https://uwaterloo.ca/conrad-school-entrepreneurship-business/events/vib
 e-visionary-innovators-bold-entrepreneurs
LOCATION:E7 - Engineering 7 200 University Ave West IDEAS Clinic\, 2nd Floo
 r\, 2409 Waterloo ON N2L 3G1 Canada
SUMMARY:VIBE Visionary Innovators. Bold Entrepreneurs.
CLASS:PUBLIC
DESCRIPTION:Join us for an inaugural VIBE panel to celebrate International\
 nWomen’s Week. Real stories. Real strategy. Real talk.\n\nCome connect\,
  learn\, enjoy some food\, and build community with women\nwho are creatin
 g what’s next.\n\n📍E7 - IDEAS Clinic (Rm 2409)\n📅 March 18\n🕕 5
 :30-7:30\n\nRegister\nhere: https://www.ticketfi.com/event/6872/vibe-laun
 ch-event 
DTSTAMP:20260423T050618Z
END:VEVENT
BEGIN:VEVENT
UID:69e9a8ca37c86
DTSTART;TZID=America/Toronto:20260205T180000
SEQUENCE:0
TRANSP:TRANSPARENT
DTEND;TZID=America/Toronto:20260205T200000
URL:https://uwaterloo.ca/conrad-school-entrepreneurship-business/events/cap
 stone-catalyst-workshop-understanding-problem-professor
LOCATION:University of Waterloo 200 University Ave West E5\, 3102 Waterloo 
 ON N2L 3G1 Canada
SUMMARY:Capstone Catalyst Workshop: Understanding the Problem with Professo
 r\nLarry Smith
CLASS:PUBLIC
DESCRIPTION:Snow day shuffle! We’ve rescheduled the Capstone Catalyst Wo
 rkshop\nwith Professor Larry Smith: Understanding the Problem to Thursday\
 ,\nFebruary 5th at 6:00–8:00 pm.\n\nTurn your capstone idea into somethi
 ng with real-world\nimpact. Students will learn how to identify\, dissect
 \, and deeply\nunderstand problems with the potential for disruptive econo
 mic and\nsocial impact.
DTSTAMP:20260423T050618Z
END:VEVENT
BEGIN:VEVENT
UID:69e9a8ca3878b
DTSTART;TZID=America/Toronto:20260126T183000
SEQUENCE:0
TRANSP:TRANSPARENT
DTEND;TZID=America/Toronto:20260126T200000
URL:https://uwaterloo.ca/conrad-school-entrepreneurship-business/events/tur
 n-your-capstone-venture
LOCATION:PSE - Pearl Sullivan Engineering 200 University Ave West Pearl Sul
 livan Engineering\, 7th Floor\, Faculty Hall (Room 7303/7363) Waterloo ON 
 N2L 3G1 Canada
SUMMARY:Turn your Capstone into a venture
CLASS:PUBLIC
DESCRIPTION:Designed to complement your academic journey\, this program off
 ers a\nspace to develop a project with genuine market potential. It is an
 \nopportunity to explore problem spaces and ideas in a supportive\nenviron
 ment that encourages risk-taking and innovation.\n\nStudents will learn ho
 w to identify\, dissect\, and deeply understand\nproblems with the potenti
 al for disruptive economic and social impact.
DTSTAMP:20260423T050618Z
END:VEVENT
BEGIN:VEVENT
UID:69e9a8ca39241
DTSTART;TZID=America/Toronto:20260128T123000
SEQUENCE:0
TRANSP:TRANSPARENT
DTEND;TZID=America/Toronto:20260128T140000
URL:https://uwaterloo.ca/conrad-school-entrepreneurship-business/events/ins
 ight-creation-speaker-series-founders-journey-ground
LOCATION:PSE - Pearl Sullivan Engineering 200 University Ave West Pearl Sul
 livan Engineering\, 2nd Floor\, Conrad School Hub Waterloo ON N2L 3G1 Cana
 da
SUMMARY:Insight To Creation Speaker Series: A Founder’s Journey from Grou
 nd\nto Flight
CLASS:PUBLIC
DESCRIPTION:Dr. Jeremy Wang shares his entrepreneurial journey from advance
 d\nengineering research to co-founding a venture-backed\nstartup operatin
 g at the frontier of autonomous aviation. Drawing on\nhis experience as a
  founder and operator in a highly regulated\nindustry\, Jeremy explores wh
 at it takes to transform technical\ninnovation into a viable\, mission-dr
 iven business. \n\nOpen to all students\, faculty and staff. Recommended 
 to MBET\, E Co-op\,\nBET students.
DTSTAMP:20260423T050618Z
END:VEVENT
BEGIN:VEVENT
UID:69e9a8ca39cab
DTSTART;TZID=America/Toronto:20251205T120000
SEQUENCE:0
TRANSP:TRANSPARENT
DTEND;TZID=America/Toronto:20251205T140000
URL:https://uwaterloo.ca/conrad-school-entrepreneurship-business/events/pro
 blem-lab-problem-pitch-fall-2025-competition-finals
LOCATION:PSE - Pearl Sullivan Engineering 200 University Ave West Pitch Spa
 ce\, 2nd Floor Waterloo ON N2L 3G1 Canada
SUMMARY:Problem Lab Problem Pitch Fall 2025 Competition Finals
CLASS:PUBLIC
DESCRIPTION:Welcome to the Problem Lab's Problem Pitch Fall 2025 Competitio
 n\nFinals hosted and sponsored by the Conrad School of Entrepreneurship\na
 nd Business.\n\nThe Quantum Valley Investments® Problem Pitch competition
 s challenge\nstudents to research an important problem and pitch their re
 search to\na panel of judges. Funding of $7\,500 is awarded to support th
 e\nstudent team that demonstrates the most thorough understanding of\nthe
 ir chosen problem to develop a solution.\n\nThe competition will take pla
 ce Friday\, December 5\, 2025\, from\n12:00–2:00 pm in the Pearl Sulliva
 n Engineering Pitch Space on the\nsecond floor. \n\nThe student team fin
 alists are:\n\n* Cool Flash\n * TaxBuddy\n * Yogipop\n * OBEL\n * Sweet So
 rrow\n * HALO\n\nThe judges' panel includes:\n\n* Nabil Fahel\, Vice Presi
 dent\, Communitech\n * Kyle Faller\, Co-founder and CEO\, Intelline Inc.\n
  * Julie Ellis\, Founder and CEO\n\nRegister to join! 
DTSTAMP:20260423T050618Z
END:VEVENT
BEGIN:VEVENT
UID:69e9a8ca3a87e
DTSTART;TZID=America/Toronto:20251118T174500
SEQUENCE:0
TRANSP:TRANSPARENT
DTEND;TZID=America/Toronto:20251118T194500
URL:https://uwaterloo.ca/conrad-school-entrepreneurship-business/events/cap
 stone-catalyst-program
LOCATION:PSE - Pearl Sullivan Engineering 200 University Ave West IDEAS Cli
 nic\, 2nd Floor\, 2409 Waterloo ON N2L 3G1 Canada
SUMMARY:Capstone Catalyst Program
CLASS:PUBLIC
DESCRIPTION:CAPSTONE CATALYST: FROM PROBLEM TO PITCH\nWant to jump-start yo
 ur capstone and win up to $4\,000?\n\nFunded by the Esch Foundation\, Caps
 tone Catalyst helps you turn big\nproblems into high-impact projects using
  early market insights and\nentrepreneurial tools. This week’s fast-pace
 d session will show you\nhow to validate assumptions\, explore real market
  needs\, and design\nprojects with social impact\, all while using the Lea
 n Canvas to shape\nyour value proposition and customer focus.\n\n4A STUDEN
 TS: Attend the workshop and submit your idea for a chance to\nwin $2\,000
 –$4\,000 in seed funding to launch your capstone next term.\n\nDon’t m
 iss out! This is your chance to get ahead _and_ get funded.\n\nTuesday\, N
 ovember 18\, 5:45 PM\nSecond Floor\, Ideas Clinic PSE
DTSTAMP:20260423T050618Z
END:VEVENT
BEGIN:VEVENT
UID:69e9a8ca3b0d0
DTSTART;TZID=America/Toronto:20251006T183000
SEQUENCE:0
TRANSP:TRANSPARENT
DTEND;TZID=America/Toronto:20251006T203000
URL:https://uwaterloo.ca/conrad-school-entrepreneurship-business/events/cap
 stone-catalyst-program-workshop-one-understanding-problem
LOCATION:PSE 1st Floor Ideas Clinic 200 University Ave West Waterloo ON N2L
  3G1 Canada
SUMMARY:Capstone Catalyst Program Workshop One: Understanding the Problem
CLASS:PUBLIC
DESCRIPTION:The Conrad School is excited to launch Capstone Catalyst\, a pr
 ogram\nfunded by the Esch Foundation to help you design innovative\,\nhigh
 -impact fourth-year capstone projects. Workshop One: Understanding\nthe Pr
 oblem\, hosted by the Problem Lab where innovation starts with\nunderstand
 ing\, not solving. Learn how to uncover and analyze problems\nwith the pot
 ential for disruptive economic and social impact.
DTSTAMP:20260423T050618Z
END:VEVENT
BEGIN:VEVENT
UID:69e9a8ca3bb01
DTSTART;TZID=America/Toronto:20250910T120000
SEQUENCE:0
TRANSP:TRANSPARENT
DTEND;TZID=America/Toronto:20250910T143000
URL:https://uwaterloo.ca/conrad-school-entrepreneurship-business/events/stu
 dent-entrepreneur-networking-lunch
LOCATION:PSE - Pearl Sullivan Engineering 200 University Ave West Conrad Sc
 hool\, 2nd Floor\, HUB 2357 Waterloo ON N2L 3G1 Canada
SUMMARY:Student Entrepreneur Networking Lunch
CLASS:PUBLIC
DESCRIPTION:Join us for a dynamic lunchtime gathering at the Conrad School 
 of\nEntrepreneurship and Business on WEDNESDAY\, SEPTEMBER 10 AT 12:00\nN
 OON.\n\nThis is your chance to connect with fellow students who are buildi
 ng\nventures\, hear from recent alumni founders\, and exchange ideas about
 \nthe entrepreneurial journey. Whether you’re already working on a\nstar
 tup\, curious about launching your own venture\, or simply eager to\nmeet 
 like-minded innovators\, this event is for you!\n\nEnjoy great conversatio
 n\, fresh inspiration\, and a delicious\nlunch—on us!\n\nCome for the fo
 od\, leave with new ideas and connections.\n\nLimited spots available: reg
 ister today!\n\nWe are official event hosts with Waterloo Tech Week 2025\,
  a\ncelebration of what’s been built here\, and what’s still to come.\
 nWe’re building something great together. September 8-11\,\n2025. water
 lootechweek.ca [http://waterlootechweek.ca/]
DTSTAMP:20260423T050618Z
END:VEVENT
END:VCALENDAR