BEGIN:VCALENDAR
VERSION:2.0
PRODID:-//Drupal iCal API//EN
X-WR-CALNAME:Events items teaser
X-WR-TIMEZONE:America/Toronto
BEGIN:VTIMEZONE
TZID:America/Toronto
X-LIC-LOCATION:America/Toronto
BEGIN:DAYLIGHT
TZNAME:EDT
TZOFFSETFROM:-0500
TZOFFSETTO:-0400
DTSTART:20240310T070000
END:DAYLIGHT
BEGIN:STANDARD
TZNAME:EST
TZOFFSETFROM:-0400
TZOFFSETTO:-0500
DTSTART:20241103T060000
END:STANDARD
END:VTIMEZONE
BEGIN:VEVENT
UID:69e2ae8ca549a
DTSTART;TZID=America/Toronto:20250206T130000
SEQUENCE:0
TRANSP:TRANSPARENT
DTEND;TZID=America/Toronto:20250206T150000
URL:https://uwaterloo.ca/current-graduate-students/events/generative-artifi
 cial-intelligence-and-literature-review
SUMMARY:Generative Artificial Intelligence and the Literature Review
CLASS:PUBLIC
DESCRIPTION:Generative Artificial Intelligence (GenAI) _can’t _write yo
 ur\nliterature review for you\, but this workshop will explore and\nintrod
 uce GenAI tools you may use as supports in the literature review\nprocess.
DTSTAMP:20260417T220500Z
END:VEVENT
END:VCALENDAR