BEGIN:VCALENDAR
VERSION:2.0
PRODID:-//Drupal iCal API//EN
X-WR-CALNAME:Events items teaser
X-WR-TIMEZONE:America/Toronto
BEGIN:VTIMEZONE
TZID:America/Toronto
X-LIC-LOCATION:America/Toronto
BEGIN:DAYLIGHT
TZNAME:EDT
TZOFFSETFROM:-0500
TZOFFSETTO:-0400
DTSTART:20250309T070000
END:DAYLIGHT
BEGIN:STANDARD
TZNAME:EST
TZOFFSETFROM:-0400
TZOFFSETTO:-0500
DTSTART:20241103T060000
END:STANDARD
END:VTIMEZONE
BEGIN:VEVENT
UID:69e922d1f27a9
DTSTART;TZID=America/Toronto:20250312T120000
SEQUENCE:0
TRANSP:TRANSPARENT
DTEND;TZID=America/Toronto:20250312T130000
URL:https://uwaterloo.ca/current-graduate-students/events/digging-linkedin
SUMMARY:Digging in to LinkedIn
CLASS:PUBLIC
DESCRIPTION:Join the Centre for Career Development to learn how to use Link
 edIn to\nnetwork successfully and meet your career goals.
DTSTAMP:20260422T193441Z
END:VEVENT
END:VCALENDAR