BEGIN:VCALENDAR
VERSION:2.0
PRODID:-//Drupal iCal API//EN
X-WR-CALNAME:Events items teaser
X-WR-TIMEZONE:America/Toronto
BEGIN:VTIMEZONE
TZID:America/Toronto
X-LIC-LOCATION:America/Toronto
BEGIN:DAYLIGHT
TZNAME:EDT
TZOFFSETFROM:-0500
TZOFFSETTO:-0400
DTSTART:20250309T070000
END:DAYLIGHT
BEGIN:STANDARD
TZNAME:EST
TZOFFSETFROM:-0400
TZOFFSETTO:-0500
DTSTART:20241103T060000
END:STANDARD
END:VTIMEZONE
BEGIN:VEVENT
UID:69e91d430d0c6
DTSTART;TZID=America/Toronto:20250826T130000
SEQUENCE:0
TRANSP:TRANSPARENT
DTEND;TZID=America/Toronto:20250826T150000
URL:https://uwaterloo.ca/current-graduate-students/events/nserc-program-inf
 ormation-sessions
SUMMARY:NSERC Program Information Sessions
CLASS:PUBLIC
DESCRIPTION:Join the Natural Sciences and Engineering Research Council of C
 anada\n(NSERC) for upcoming information sessions on the doctoral and\npost
 doctoral programs.
DTSTAMP:20260422T191059Z
END:VEVENT
BEGIN:VEVENT
UID:69e91d430e035
DTSTART;TZID=America/Toronto:20250905T100000
SEQUENCE:0
TRANSP:TRANSPARENT
DTEND;TZID=America/Toronto:20250905T120000
URL:https://uwaterloo.ca/current-graduate-students/events/nserc-program-inf
 ormation-sessions
SUMMARY:NSERC Program Information Sessions
CLASS:PUBLIC
DESCRIPTION:Join the Natural Sciences and Engineering Research Council of C
 anada\n(NSERC) for upcoming information sessions on the doctoral and\npost
 doctoral programs.
DTSTAMP:20260422T191059Z
END:VEVENT
BEGIN:VEVENT
UID:69e91d430e7e2
DTSTART;TZID=America/Toronto:20250908T100000
SEQUENCE:0
TRANSP:TRANSPARENT
DTEND;TZID=America/Toronto:20250908T120000
URL:https://uwaterloo.ca/current-graduate-students/events/nserc-program-inf
 ormation-sessions
SUMMARY:NSERC Program Information Sessions
CLASS:PUBLIC
DESCRIPTION:Join the Natural Sciences and Engineering Research Council of C
 anada\n(NSERC) for upcoming information sessions on the doctoral and\npost
 doctoral programs.
DTSTAMP:20260422T191059Z
END:VEVENT
BEGIN:VEVENT
UID:69e91d430ee09
DTSTART;TZID=America/Toronto:20250910T130000
SEQUENCE:0
TRANSP:TRANSPARENT
DTEND;TZID=America/Toronto:20250910T150000
URL:https://uwaterloo.ca/current-graduate-students/events/nserc-program-inf
 ormation-sessions
SUMMARY:NSERC Program Information Sessions
CLASS:PUBLIC
DESCRIPTION:Join the Natural Sciences and Engineering Research Council of C
 anada\n(NSERC) for upcoming information sessions on the doctoral and\npost
 doctoral programs.
DTSTAMP:20260422T191059Z
END:VEVENT
END:VCALENDAR