BEGIN:VCALENDAR
VERSION:2.0
PRODID:-//Drupal iCal API//EN
X-WR-CALNAME:Events items teaser
X-WR-TIMEZONE:America/Toronto
BEGIN:VTIMEZONE
TZID:America/Toronto
X-LIC-LOCATION:America/Toronto
BEGIN:DAYLIGHT
TZNAME:EDT
TZOFFSETFROM:-0500
TZOFFSETTO:-0400
DTSTART:20250309T070000
END:DAYLIGHT
BEGIN:STANDARD
TZNAME:EST
TZOFFSETFROM:-0400
TZOFFSETTO:-0500
DTSTART:20241103T060000
END:STANDARD
END:VTIMEZONE
BEGIN:VEVENT
UID:69e921bb473d4
DTSTART;TZID=America/Toronto:20250918T163000
SEQUENCE:0
TRANSP:TRANSPARENT
DTEND;TZID=America/Toronto:20250918T173000
URL:https://uwaterloo.ca/current-graduate-students/events/idea-impact-findi
 ng-gaps-your-problem-space
SUMMARY:From Idea to Impact: Finding Gaps in Your Problem Space
CLASS:PUBLIC
DESCRIPTION:Are you looking to solve big problems\, but you’re not sure w
 here to\nstart? In this online workshop\, Waterloo’s entrepreneurship\nl
 ibrarian will show you how to understand the landscape of a problem\nand p
 ossibly identify some paths to how you might contribute to a\nsolution.
DTSTAMP:20260422T193003Z
END:VEVENT
END:VCALENDAR