BEGIN:VCALENDAR
VERSION:2.0
PRODID:-//Drupal iCal API//EN
X-WR-CALNAME:Events items teaser
X-WR-TIMEZONE:America/Toronto
BEGIN:VTIMEZONE
TZID:America/Toronto
X-LIC-LOCATION:America/Toronto
BEGIN:DAYLIGHT
TZNAME:EDT
TZOFFSETFROM:-0500
TZOFFSETTO:-0400
DTSTART:20250309T070000
END:DAYLIGHT
BEGIN:STANDARD
TZNAME:EST
TZOFFSETFROM:-0400
TZOFFSETTO:-0500
DTSTART:20241103T060000
END:STANDARD
END:VTIMEZONE
BEGIN:VEVENT
UID:69e921aca09f0
DTSTART;TZID=America/Toronto:20250925T113000
SEQUENCE:0
TRANSP:TRANSPARENT
DTEND;TZID=America/Toronto:20250925T133000
URL:https://uwaterloo.ca/current-graduate-students/events/generative-artifi
 cial-intelligence-and-literature-review-0
SUMMARY:Generative Artificial Intelligence and the Literature Review: A\nWo
 rkshop for Graduate Students
CLASS:PUBLIC
DESCRIPTION:This interactive workshop is a collaboration between the Librar
 y and\nthe Writing and Communication Centre and is designed for graduate\n
 students who are working on a literature review as part of a project\nprop
 osal\, thesis or dissertation\, or a standalone journal article. 
DTSTAMP:20260422T192948Z
END:VEVENT
END:VCALENDAR