BEGIN:VCALENDAR
VERSION:2.0
PRODID:-//Drupal iCal API//EN
X-WR-CALNAME:Events items teaser
X-WR-TIMEZONE:America/Toronto
BEGIN:VTIMEZONE
TZID:America/Toronto
X-LIC-LOCATION:America/Toronto
BEGIN:DAYLIGHT
TZNAME:EDT
TZOFFSETFROM:-0500
TZOFFSETTO:-0400
DTSTART:20250309T070000
END:DAYLIGHT
BEGIN:STANDARD
TZNAME:EST
TZOFFSETFROM:-0400
TZOFFSETTO:-0500
DTSTART:20241103T060000
END:STANDARD
END:VTIMEZONE
BEGIN:VEVENT
UID:69e2a1628a005
DTSTART;TZID=America/Toronto:20250925T163000
SEQUENCE:0
TRANSP:TRANSPARENT
DTEND;TZID=America/Toronto:20250925T173000
URL:https://uwaterloo.ca/current-graduate-students/events/idea-impact-under
 standing-markets-consumers
SUMMARY:From Idea to Impact: Understanding Markets &amp; Consumers
CLASS:PUBLIC
DESCRIPTION:Learn how to use Library tools and openly available sources to\
 nresearch markets and understand customer needs. 
DTSTAMP:20260417T210850Z
END:VEVENT
END:VCALENDAR