BEGIN:VCALENDAR
VERSION:2.0
PRODID:-//Drupal iCal API//EN
X-WR-CALNAME:Events items teaser
X-WR-TIMEZONE:America/Toronto
BEGIN:VTIMEZONE
TZID:America/Toronto
X-LIC-LOCATION:America/Toronto
BEGIN:DAYLIGHT
TZNAME:EDT
TZOFFSETFROM:-0500
TZOFFSETTO:-0400
DTSTART:20250309T070000
END:DAYLIGHT
BEGIN:STANDARD
TZNAME:EST
TZOFFSETFROM:-0400
TZOFFSETTO:-0500
DTSTART:20241103T060000
END:STANDARD
END:VTIMEZONE
BEGIN:VEVENT
UID:69e29c21d47ea
DTSTART;TZID=America/Toronto:20251008T130000
SEQUENCE:0
TRANSP:TRANSPARENT
DTEND;TZID=America/Toronto:20251008T140000
URL:https://uwaterloo.ca/current-graduate-students/events/funding-opportuni
 ties-mitacs
SUMMARY:Funding Opportunities with Mitacs
CLASS:PUBLIC
DESCRIPTION:In this session\, Amanda Green\, Senior Advisor at Mitacs\, wil
 l share\nhow Mitacs programs can support your research collaborations\, st
 artup\nventures\, and international exchanges.
DTSTAMP:20260417T204625Z
END:VEVENT
END:VCALENDAR