BEGIN:VCALENDAR
VERSION:2.0
PRODID:-//Drupal iCal API//EN
X-WR-CALNAME:Events items teaser
X-WR-TIMEZONE:America/Toronto
BEGIN:VTIMEZONE
TZID:America/Toronto
X-LIC-LOCATION:America/Toronto
BEGIN:DAYLIGHT
TZNAME:EDT
TZOFFSETFROM:-0500
TZOFFSETTO:-0400
DTSTART:20250309T070000
END:DAYLIGHT
BEGIN:STANDARD
TZNAME:EST
TZOFFSETFROM:-0400
TZOFFSETTO:-0500
DTSTART:20241103T060000
END:STANDARD
END:VTIMEZONE
BEGIN:VEVENT
UID:69e29b6a416b9
DTSTART;TZID=America/Toronto:20251029T110000
SEQUENCE:0
TRANSP:TRANSPARENT
DTEND;TZID=America/Toronto:20251029T120000
URL:https://uwaterloo.ca/current-graduate-students/events/data-journeys-rep
 roducibility-people-whove-lost-their-own
SUMMARY:Data Journeys: Reproducibility for People Who’ve Lost Their Own\n
 Code—Because Peer Review Is Brutal and Memory Is Fragile
CLASS:PUBLIC
DESCRIPTION:Explore why research reproducibility and replicability matter\,
  what\nhappens if it’s not\, and how to detect unreliable research aroun
 d\nyou. This workshop will also explore tools and techniques to make your\
 nresearch reproducible—even if you’re starting from a pile of\nmystery
  scripts.
DTSTAMP:20260417T204322Z
END:VEVENT
END:VCALENDAR