BEGIN:VCALENDAR
VERSION:2.0
PRODID:-//Drupal iCal API//EN
X-WR-CALNAME:Events items teaser
X-WR-TIMEZONE:America/Toronto
BEGIN:VTIMEZONE
TZID:America/Toronto
X-LIC-LOCATION:America/Toronto
BEGIN:DAYLIGHT
TZNAME:EDT
TZOFFSETFROM:-0500
TZOFFSETTO:-0400
DTSTART:20250309T070000
END:DAYLIGHT
BEGIN:STANDARD
TZNAME:EST
TZOFFSETFROM:-0400
TZOFFSETTO:-0500
DTSTART:20251102T060000
END:STANDARD
END:VTIMEZONE
BEGIN:VEVENT
UID:69e29b55cfabf
DTSTART;TZID=America/Toronto:20251111T130000
SEQUENCE:0
TRANSP:TRANSPARENT
DTEND;TZID=America/Toronto:20251111T150000
URL:https://uwaterloo.ca/current-graduate-students/events/systematic-and-sc
 oping-reviews-systematic-screening-using
SUMMARY:Systematic and Scoping Reviews: Systematic Screening using Covidenc
 e\nand Zotero
CLASS:PUBLIC
DESCRIPTION:This workshop will focus on using technical tools\, Covidence\,
  to\nstreamline the review process\, as well as a reference manager\, Zote
 ro\,\nto work with the search results from your structured review to\ngene
 rate in-cite citations and an automated bibliography.
DTSTAMP:20260417T204301Z
END:VEVENT
END:VCALENDAR